BEGIN:VCALENDAR
VERSION:2.0
PRODID:-//midwestchildcare.org//NONSGML kigkonsult.se iCalcreator 2.30.10//
CALSCALE:GREGORIAN
METHOD:PUBLISH
UID:b9be9f77-e01a-4db8-9d8f-308090c6048a
X-WR-CALDESC:Big Al: An Interactive Preschool Class\n\nYou are invited to a
  Zoom meeting.\nWhen: Aug 31\, 2023 10:00 AM Central Time (US and Canada) 
 \n\nRegister in advance for this meeting:\nhttps://us02web.zoom.us/meeting
 /register/tZIqceuuqTIrG9QMQ_CG6cYJbhOvYgElfQQ0\n\nAfter registering\, you 
 will receive a confirmation email containing information about joining the
  meeting.
X-WR-RELCALID:4e61ad9a27fc9b4c900f59563f23a313
X-WR-TIMEZONE:America/Chicago
BEGIN:VTIMEZONE
TZID:America/Chicago
BEGIN:STANDARD
TZNAME:CST
DTSTART:20221106T020000
TZOFFSETFROM:-0500
TZOFFSETTO:-0600
RDATE:20231105T020000
RDATE:20241103T020000
END:STANDARD
BEGIN:DAYLIGHT
TZNAME:CDT
DTSTART:20230312T020000
TZOFFSETFROM:-0600
TZOFFSETTO:-0500
RDATE:20240310T020000
END:DAYLIGHT
END:VTIMEZONE
BEGIN:VEVENT
UID:2140e3b1-95c4-40b5-a3fd-dd297b5543ed
DTSTAMP:20260422T114427Z
DESCRIPTION:Big Al: An Interactive Preschool Class\n\nYou are invited to a 
 Zoom meeting.\nWhen: Aug 31\, 2023 10:00 AM Central Time (US and Canada) 
 \n\nRegister in advance for this meeting:\nhttps://us02web.zoom.us/meeting
 /register/tZIqceuuqTIrG9QMQ_CG6cYJbhOvYgElfQQ0\n\nAfter registering\, you 
 will receive a confirmation email containing information about joining the
  meeting.
DTSTART;TZID=America/Chicago:20230831T100000
DTEND;TZID=America/Chicago:20230831T103000
LOCATION:
SUMMARY:Big Al: An Interactive Preschool Class
END:VEVENT
END:VCALENDAR
