BEGIN:VCALENDAR
VERSION:2.0
PRODID:-//midwestchildcare.org//NONSGML kigkonsult.se iCalcreator 2.30.10//
CALSCALE:GREGORIAN
METHOD:PUBLISH
UID:95e9494d-8169-4bbb-b961-0fcdbcf38fb9
X-WR-CALDESC:Big Al: An Interactive Preschool Class\n\nYou are invited to a
  Zoom meeting. \nWhen: Aug 31\, 2023 09:30 AM Central Time (US and Canada)
  \n\nRegister in advance for this meeting:\nhttps://us02web.zoom.us/meetin
 g/register/tZUtfuCurjIjGt1XTxxT246v-lhicBrBoKa0\n\nAfter registering\, you
  will receive a confirmation email containing information about joining th
 e meeting.
X-WR-RELCALID:644c931743392947412785c1fb6ed8b3
X-WR-TIMEZONE:America/Chicago
BEGIN:VTIMEZONE
TZID:America/Chicago
BEGIN:STANDARD
TZNAME:CST
DTSTART:20221106T020000
TZOFFSETFROM:-0500
TZOFFSETTO:-0600
RDATE:20231105T020000
RDATE:20241103T020000
END:STANDARD
BEGIN:DAYLIGHT
TZNAME:CDT
DTSTART:20230312T020000
TZOFFSETFROM:-0600
TZOFFSETTO:-0500
RDATE:20240310T020000
END:DAYLIGHT
END:VTIMEZONE
BEGIN:VEVENT
UID:be414bd9-f19a-452d-af3e-91a7ef00e3b8
DTSTAMP:20260422T114513Z
DESCRIPTION:Big Al: An Interactive Preschool Class\n\nYou are invited to a 
 Zoom meeting. \nWhen: Aug 31\, 2023 09:30 AM Central Time (US and Canada) 
 \n\nRegister in advance for this meeting:\nhttps://us02web.zoom.us/meeting
 /register/tZUtfuCurjIjGt1XTxxT246v-lhicBrBoKa0\n\nAfter registering\, you 
 will receive a confirmation email containing information about joining the
  meeting.
DTSTART;TZID=America/Chicago:20230831T093000
DTEND;TZID=America/Chicago:20230831T100000
LOCATION:
SUMMARY:Big Al: An Interactive Preschool Class
END:VEVENT
END:VCALENDAR
