BEGIN:VCALENDAR
VERSION:2.0
PRODID:-//midwestchildcare.org//NONSGML kigkonsult.se iCalcreator 2.30.10//
CALSCALE:GREGORIAN
METHOD:PUBLISH
UID:aed3b1bc-ad4f-4317-9dfa-95dc62b99217
X-WR-CALDESC:Please register for Fall Food and Activity Ideas: LIVE IN-PERS
 ON CLASS at MIDWEST CHILDCARE on Aug 26\, 2023 9:00 AM CDT at:\n\nhttps://
 attendee.gotowebinar.com/register/8000310918811394393\n\nAfter registering
 \, you will receive a confirmation email containing information about join
 ing the webinar.
X-WR-RELCALID:6e0b2f36c1f64e46a13b1c9d52ab0d19
X-WR-TIMEZONE:America/Chicago
BEGIN:VTIMEZONE
TZID:America/Chicago
BEGIN:STANDARD
TZNAME:CST
DTSTART:20221106T020000
TZOFFSETFROM:-0500
TZOFFSETTO:-0600
RDATE:20231105T020000
RDATE:20241103T020000
END:STANDARD
BEGIN:DAYLIGHT
TZNAME:CDT
DTSTART:20230312T020000
TZOFFSETFROM:-0600
TZOFFSETTO:-0500
RDATE:20240310T020000
END:DAYLIGHT
END:VTIMEZONE
BEGIN:VEVENT
UID:4a9d4399-8d4b-474b-ad9b-8a8ac67d9e63
DTSTAMP:20260422T115347Z
DESCRIPTION:Please register for Fall Food and Activity Ideas: LIVE IN-PERSO
 N CLASS at MIDWEST CHILDCARE on Aug 26\, 2023 9:00 AM CDT at:\n\nhttps://a
 ttendee.gotowebinar.com/register/8000310918811394393\n\nAfter registering\
 , you will receive a confirmation email containing information about joini
 ng the webinar.
DTSTART;TZID=America/Chicago:20230826T090000
DTEND;TZID=America/Chicago:20230826T130000
LOCATION:7701 Pacific Street\, Omaha\, NE 68114 US
SUMMARY:Fall Food and Activity Ideas: LIVE IN-PERSON CLAS
END:VEVENT
END:VCALENDAR
