BEGIN:VCALENDAR
VERSION:2.0
PRODID:-//midwestchildcare.org//NONSGML kigkonsult.se iCalcreator 2.30.10//
CALSCALE:GREGORIAN
METHOD:PUBLISH
UID:5aa6bded-894f-4e99-acca-8332c4083aea
X-WR-CALDESC:HSI Pediatric First Aid | CPR AED Child/Infant/Adult (2020)\n
 \nLOCATION:	\n7701 Pacific St\nOmaha\, NE 68114\n\nContact: Matthew Nagler\
 ; Email: mattsafetytraining@gmail.com or 402-681-9559
X-WR-RELCALID:5ac87e056acfdf45c069b5b57c4ed28a
X-WR-TIMEZONE:America/Chicago
BEGIN:VTIMEZONE
TZID:America/Chicago
BEGIN:STANDARD
TZNAME:CST
DTSTART:20221106T020000
TZOFFSETFROM:-0500
TZOFFSETTO:-0600
RDATE:20231105T020000
RDATE:20241103T020000
END:STANDARD
BEGIN:DAYLIGHT
TZNAME:CDT
DTSTART:20230312T020000
TZOFFSETFROM:-0600
TZOFFSETTO:-0500
RDATE:20240310T020000
END:DAYLIGHT
END:VTIMEZONE
BEGIN:VEVENT
UID:a2b84186-f161-4ad4-84d3-678624fc89e7
DTSTAMP:20260422T115444Z
DESCRIPTION:HSI Pediatric First Aid | CPR AED Child/Infant/Adult (2020)\n\n
 LOCATION:	\n7701 Pacific St\nOmaha\, NE 68114\n\nContact: Matthew Nagler\; 
 Email: mattsafetytraining@gmail.com or 402-681-9559
DTSTART;TZID=America/Chicago:20230824T180000
DTEND;TZID=America/Chicago:20230824T220000
LOCATION:7701 Pacific St\, Omaha\, NE 68114 US
SUMMARY:HSI Pediatric First Aid | CPR AED Child/Infant/Adult (2020)
END:VEVENT
END:VCALENDAR
