BEGIN:VCALENDAR
VERSION:2.0
PRODID:-//midwestchildcare.org//NONSGML kigkonsult.se iCalcreator 2.30.10//
CALSCALE:GREGORIAN
METHOD:PUBLISH
UID:3a7b7001-6ebc-4c2a-bc60-5c6936567936
X-WR-CALDESC:Please register for Food Safety Best Practices on Aug 21\, 202
 3 1:00 PM CDT at:\n\nhttps://attendee.gotowebinar.com/register/41177011651
 57558106\n\nAfter registering\, you will receive a confirmation email cont
 aining information about joining the webinar.
X-WR-RELCALID:9d63caf8bc77a174467788d30c4bcc0b
X-WR-TIMEZONE:America/Chicago
BEGIN:VTIMEZONE
TZID:America/Chicago
BEGIN:STANDARD
TZNAME:CST
DTSTART:20221106T020000
TZOFFSETFROM:-0500
TZOFFSETTO:-0600
RDATE:20231105T020000
RDATE:20241103T020000
END:STANDARD
BEGIN:DAYLIGHT
TZNAME:CDT
DTSTART:20230312T020000
TZOFFSETFROM:-0600
TZOFFSETTO:-0500
RDATE:20240310T020000
END:DAYLIGHT
END:VTIMEZONE
BEGIN:VEVENT
UID:9086439f-e56a-4f84-883a-8e8a8aa54001
DTSTAMP:20260422T114652Z
DESCRIPTION:Please register for Food Safety Best Practices on Aug 21\, 2023
  1:00 PM CDT at:\n\nhttps://attendee.gotowebinar.com/register/411770116515
 7558106\n\nAfter registering\, you will receive a confirmation email conta
 ining information about joining the webinar.
DTSTART;TZID=America/Chicago:20230821T130000
DTEND;TZID=America/Chicago:20230821T140000
LOCATION:
SUMMARY:Food Safety Best Practices | Webinar
END:VEVENT
END:VCALENDAR
