BEGIN:VCALENDAR
VERSION:2.0
PRODID:-//midwestchildcare.org//NONSGML kigkonsult.se iCalcreator 2.30.10//
CALSCALE:GREGORIAN
METHOD:PUBLISH
UID:0593d796-e0b5-4989-9230-1d9e23ba9000
X-WR-CALDESC:Pete the Cat and Four Groovy Buttons: An Interactive Preschool
  Class\n\nYou are invited to a Zoom meeting.\nWhen: Aug 17\, 2023 10:00 AM
  Central Time (US and Canada)\n\nRegister in advance for this meeting:\nht
 tps://us02web.zoom.us/meeting/register/tZ0qc-uorjstGdcxgna25S5Nxg2oPxeM5ec
 n\n\nAfter registering\, you will receive a confirmation email containing 
 information about joining the meeting.
X-WR-RELCALID:3e45a3150c7a3e1f4fa62afade01e9cf
X-WR-TIMEZONE:America/Chicago
BEGIN:VTIMEZONE
TZID:America/Chicago
BEGIN:STANDARD
TZNAME:CST
DTSTART:20221106T020000
TZOFFSETFROM:-0500
TZOFFSETTO:-0600
RDATE:20231105T020000
RDATE:20241103T020000
END:STANDARD
BEGIN:DAYLIGHT
TZNAME:CDT
DTSTART:20230312T020000
TZOFFSETFROM:-0600
TZOFFSETTO:-0500
RDATE:20240310T020000
END:DAYLIGHT
END:VTIMEZONE
BEGIN:VEVENT
UID:c55c9a0d-fe8a-4697-92ef-e526417ff695
DTSTAMP:20260422T115300Z
DESCRIPTION:Pete the Cat and Four Groovy Buttons: An Interactive Preschool 
 Class\n\nYou are invited to a Zoom meeting.\nWhen: Aug 17\, 2023 10:00 AM 
 Central Time (US and Canada)\n\nRegister in advance for this meeting:\nhtt
 ps://us02web.zoom.us/meeting/register/tZ0qc-uorjstGdcxgna25S5Nxg2oPxeM5ecn
 \n\nAfter registering\, you will receive a confirmation email containing i
 nformation about joining the meeting.
DTSTART;TZID=America/Chicago:20230817T100000
DTEND;TZID=America/Chicago:20230817T103000
LOCATION:
SUMMARY:Pete the Cat and Four Groovy Buttons: An Interactive Preschool Clas
 s
END:VEVENT
END:VCALENDAR
