BEGIN:VCALENDAR
VERSION:2.0
PRODID:-//midwestchildcare.org//NONSGML kigkonsult.se iCalcreator 2.30.10//
CALSCALE:GREGORIAN
METHOD:PUBLISH
UID:bf9a01b3-5e1f-417d-9ce8-1f324c62ad7d
X-WR-CALDESC:Pete the Cat and Four Groovy Buttons: An Interactive Preschool
  Class\n\nYou are invited to a Zoom meeting.\nWhen: Aug 17\, 2023 09:30 AM
  Central Time (US and Canada)\n\nRegister in advance for this meeting:\nht
 tps://us02web.zoom.us/meeting/register/tZElde2hrzsoHNdbXcOQAHcDZe7vaBhDAOa
 Q\n\nAfter registering\, you will receive a confirmation email containing 
 information about joining the meeting.
X-WR-RELCALID:41777686899d62582a5d25440ce900f7
X-WR-TIMEZONE:America/Chicago
BEGIN:VTIMEZONE
TZID:America/Chicago
BEGIN:STANDARD
TZNAME:CST
DTSTART:20221106T020000
TZOFFSETFROM:-0500
TZOFFSETTO:-0600
RDATE:20231105T020000
RDATE:20241103T020000
END:STANDARD
BEGIN:DAYLIGHT
TZNAME:CDT
DTSTART:20230312T020000
TZOFFSETFROM:-0600
TZOFFSETTO:-0500
RDATE:20240310T020000
END:DAYLIGHT
END:VTIMEZONE
BEGIN:VEVENT
UID:4b5206b7-1b52-4520-8c4d-4204011ed386
DTSTAMP:20260422T115306Z
DESCRIPTION:Pete the Cat and Four Groovy Buttons: An Interactive Preschool 
 Class\n\nYou are invited to a Zoom meeting.\nWhen: Aug 17\, 2023 09:30 AM 
 Central Time (US and Canada)\n\nRegister in advance for this meeting:\nhtt
 ps://us02web.zoom.us/meeting/register/tZElde2hrzsoHNdbXcOQAHcDZe7vaBhDAOaQ
 \n\nAfter registering\, you will receive a confirmation email containing i
 nformation about joining the meeting.
DTSTART;TZID=America/Chicago:20230817T093000
DTEND;TZID=America/Chicago:20230817T100000
LOCATION:
SUMMARY:Pete the Cat and Four Groovy Buttons: An Interactive Preschool Clas
 s
END:VEVENT
END:VCALENDAR
