BEGIN:VCALENDAR
VERSION:2.0
PRODID:-//midwestchildcare.org//NONSGML kigkonsult.se iCalcreator 2.30.10//
CALSCALE:GREGORIAN
METHOD:PUBLISH
UID:6a9d4ccd-e302-4588-9bf6-96a186aa759e
X-WR-CALDESC:Pete the Cat and Four Groovy Buttons: An Interactive Preschool
  Class\n\nYou are invited to a Zoom meeting.\nWhen: Aug 17\, 2023 09:00 AM
  Central Time (US and Canada)\n\nRegister in advance for this meeting:\nht
 tps://us02web.zoom.us/meeting/register/tZEudeGtrjIuG9wOM3vYqbtBpmRuYfO0Qoi
 L\n\nAfter registering\, you will receive a confirmation email containing 
 information about joining the meeting.
X-WR-RELCALID:4d4af8c2b61996e4c0820be26242a734
X-WR-TIMEZONE:America/Chicago
BEGIN:VTIMEZONE
TZID:America/Chicago
BEGIN:STANDARD
TZNAME:CST
DTSTART:20221106T020000
TZOFFSETFROM:-0500
TZOFFSETTO:-0600
RDATE:20231105T020000
RDATE:20241103T020000
END:STANDARD
BEGIN:DAYLIGHT
TZNAME:CDT
DTSTART:20230312T020000
TZOFFSETFROM:-0600
TZOFFSETTO:-0500
RDATE:20240310T020000
END:DAYLIGHT
END:VTIMEZONE
BEGIN:VEVENT
UID:fe69ca95-8ca9-4345-88d0-ec2886143cbf
DTSTAMP:20260422T115154Z
DESCRIPTION:Pete the Cat and Four Groovy Buttons: An Interactive Preschool 
 Class\n\nYou are invited to a Zoom meeting.\nWhen: Aug 17\, 2023 09:00 AM 
 Central Time (US and Canada)\n\nRegister in advance for this meeting:\nhtt
 ps://us02web.zoom.us/meeting/register/tZEudeGtrjIuG9wOM3vYqbtBpmRuYfO0QoiL
 \n\nAfter registering\, you will receive a confirmation email containing i
 nformation about joining the meeting.
DTSTART;TZID=America/Chicago:20230817T090000
DTEND;TZID=America/Chicago:20230817T093000
LOCATION:
SUMMARY:Pete the Cat and Four Groovy Buttons: An Interactive Preschool Clas
 s
END:VEVENT
END:VCALENDAR
