BEGIN:VCALENDAR
VERSION:2.0
PRODID:-//midwestchildcare.org//NONSGML kigkonsult.se iCalcreator 2.30.10//
CALSCALE:GREGORIAN
METHOD:PUBLISH
UID:d9afa7d2-ee47-4df8-99a3-d0fd6a9e6350
X-WR-CALDESC:We Will Rock Our Classmates: An Interactive Preschool Class\n
 \nYou are invited to a Zoom meeting.\nWhen: Aug 10\, 2023 09:30 AM Central
  Time (US and Canada)\n\nRegister in advance for this meeting:\nhttps://us
 02web.zoom.us/meeting/register/tZMocOirrjguH9CbXyo9j4ua_lfmGGqaFT2T\n\nAft
 er registering\, you will receive a confirmation email containing informat
 ion about joining the meeting.
X-WR-RELCALID:0c2946daf8fe77481aa34b72f8d17f91
X-WR-TIMEZONE:America/Chicago
BEGIN:VTIMEZONE
TZID:America/Chicago
BEGIN:STANDARD
TZNAME:CST
DTSTART:20221106T020000
TZOFFSETFROM:-0500
TZOFFSETTO:-0600
RDATE:20231105T020000
RDATE:20241103T020000
END:STANDARD
BEGIN:DAYLIGHT
TZNAME:CDT
DTSTART:20230312T020000
TZOFFSETFROM:-0600
TZOFFSETTO:-0500
RDATE:20240310T020000
END:DAYLIGHT
END:VTIMEZONE
BEGIN:VEVENT
UID:3ad84095-9784-46a3-b3a2-89518c0c5c18
DTSTAMP:20260422T114739Z
DESCRIPTION:We Will Rock Our Classmates: An Interactive Preschool Class\n\n
 You are invited to a Zoom meeting.\nWhen: Aug 10\, 2023 09:30 AM Central T
 ime (US and Canada)\n\nRegister in advance for this meeting:\nhttps://us02
 web.zoom.us/meeting/register/tZMocOirrjguH9CbXyo9j4ua_lfmGGqaFT2T\n\nAfter
  registering\, you will receive a confirmation email containing informatio
 n about joining the meeting.
DTSTART;TZID=America/Chicago:20230810T093000
DTEND;TZID=America/Chicago:20230810T100000
LOCATION:
SUMMARY:We Will Rock Our Classmates: An Interactive Preschool Class
END:VEVENT
END:VCALENDAR
