BEGIN:VCALENDAR
VERSION:2.0
PRODID:-//midwestchildcare.org//NONSGML kigkonsult.se iCalcreator 2.30.10//
CALSCALE:GREGORIAN
METHOD:PUBLISH
UID:72178dfe-8c26-4138-90a9-79b35b39cf33
X-WR-CALDESC:We Will Rock Our Classmates: An Interactive Preschool Class\n
 \nYou are invited to a Zoom meeting.\nWhen: Aug 10\, 2023 09:00 AM Central
  Time (US and Canada)\n\nRegister in advance for this meeting:\nhttps://us
 02web.zoom.us/meeting/register/tZckf--przMqHdfrO6B0pRu1oY9fk3MZdnfP\n\nAft
 er registering\, you will receive a confirmation email containing informat
 ion about joining the meeting.
X-WR-RELCALID:86a6a6b3c718107b3a83b2f2b1228f3f
X-WR-TIMEZONE:America/Chicago
BEGIN:VTIMEZONE
TZID:America/Chicago
BEGIN:STANDARD
TZNAME:CST
DTSTART:20221106T020000
TZOFFSETFROM:-0500
TZOFFSETTO:-0600
RDATE:20231105T020000
RDATE:20241103T020000
END:STANDARD
BEGIN:DAYLIGHT
TZNAME:CDT
DTSTART:20230312T020000
TZOFFSETFROM:-0600
TZOFFSETTO:-0500
RDATE:20240310T020000
END:DAYLIGHT
END:VTIMEZONE
BEGIN:VEVENT
UID:853f75d8-1d31-4a7b-8855-f2988a012029
DTSTAMP:20260422T114652Z
DESCRIPTION:We Will Rock Our Classmates: An Interactive Preschool Class\n\n
 You are invited to a Zoom meeting.\nWhen: Aug 10\, 2023 09:00 AM Central T
 ime (US and Canada)\n\nRegister in advance for this meeting:\nhttps://us02
 web.zoom.us/meeting/register/tZckf--przMqHdfrO6B0pRu1oY9fk3MZdnfP\n\nAfter
  registering\, you will receive a confirmation email containing informatio
 n about joining the meeting.
DTSTART;TZID=America/Chicago:20230810T090000
DTEND;TZID=America/Chicago:20230810T093000
LOCATION:
SUMMARY:We Will Rock Our Classmates: An Interactive Preschool Class
END:VEVENT
END:VCALENDAR
