BEGIN:VCALENDAR
VERSION:2.0
PRODID:-//midwestchildcare.org//NONSGML kigkonsult.se iCalcreator 2.30.10//
CALSCALE:GREGORIAN
METHOD:PUBLISH
UID:a90858ba-afa5-4898-939b-456e03d1675a
X-WR-CALDESC:HSI Pediatric First Aid | CPR AED Child/Infant/Adult (2020)\n
 \n08/03/2023\, 6:00 PM - 8:30 PM\n\nContact: Matthew Nagler\; Email: matts
 afetytraining@gmail.com or 402-681-9559
X-WR-RELCALID:6026389d20e3055dfc8ed891041ba766
X-WR-TIMEZONE:America/Chicago
BEGIN:VTIMEZONE
TZID:America/Chicago
BEGIN:STANDARD
TZNAME:CST
DTSTART:20221106T020000
TZOFFSETFROM:-0500
TZOFFSETTO:-0600
RDATE:20231105T020000
RDATE:20241103T020000
END:STANDARD
BEGIN:DAYLIGHT
TZNAME:CDT
DTSTART:20230312T020000
TZOFFSETFROM:-0600
TZOFFSETTO:-0500
RDATE:20240310T020000
END:DAYLIGHT
END:VTIMEZONE
BEGIN:VEVENT
UID:e4cf3cd8-9765-4073-9f02-e3a78eb65ae2
DTSTAMP:20260422T115355Z
DESCRIPTION:HSI Pediatric First Aid | CPR AED Child/Infant/Adult (2020)\n\n
 08/03/2023\, 6:00 PM - 8:30 PM\n\nContact: Matthew Nagler\; Email: mattsaf
 etytraining@gmail.com or 402-681-9559
DTSTART;TZID=America/Chicago:20230803T180000
DTEND;TZID=America/Chicago:20230803T203000
LOCATION:7200 S 84th St\, LaVista\, NE 68127 US
SUMMARY:HSI Pediatric First Aid | CPR AED Child/Infant/Adult
END:VEVENT
END:VCALENDAR
