BEGIN:VCALENDAR
VERSION:2.0
PRODID:-//midwestchildcare.org//NONSGML kigkonsult.se iCalcreator 2.30.10//
CALSCALE:GREGORIAN
METHOD:PUBLISH
UID:6788d0dd-1ef2-497f-a33e-154fef2d32ac
X-WR-CALDESC:Firefighter Flo: An Interactive Preschool Class\n\nYou are inv
 ited to a Zoom meeting.\nWhen: Aug 3\, 2023 09:30 AM Central Time (US and 
 Canada)\n\nRegister in advance for this meeting:\nhttps://us02web.zoom.us/
 meeting/register/tZUld-mtpzsoH9agS70JhIO4x_8bcsG79CTa\n\nAfter registering
 \, you will receive a confirmation email containing information about join
 ing the meeting.
X-WR-RELCALID:9ba6915bc3d552330ce2744c117759b8
X-WR-TIMEZONE:America/Chicago
BEGIN:VTIMEZONE
TZID:America/Chicago
BEGIN:STANDARD
TZNAME:CST
DTSTART:20221106T020000
TZOFFSETFROM:-0500
TZOFFSETTO:-0600
RDATE:20231105T020000
RDATE:20241103T020000
END:STANDARD
BEGIN:DAYLIGHT
TZNAME:CDT
DTSTART:20230312T020000
TZOFFSETFROM:-0600
TZOFFSETTO:-0500
RDATE:20240310T020000
END:DAYLIGHT
END:VTIMEZONE
BEGIN:VEVENT
UID:7e07dc27-2d81-4d8b-a92c-80dfc160a3eb
DTSTAMP:20260422T114355Z
DESCRIPTION:Firefighter Flo: An Interactive Preschool Class\n\nYou are invi
 ted to a Zoom meeting.\nWhen: Aug 3\, 2023 09:30 AM Central Time (US and C
 anada)\n\nRegister in advance for this meeting:\nhttps://us02web.zoom.us/m
 eeting/register/tZUld-mtpzsoH9agS70JhIO4x_8bcsG79CTa\n\nAfter registering\
 , you will receive a confirmation email containing information about joini
 ng the meeting.
DTSTART;TZID=America/Chicago:20230803T093000
DTEND;TZID=America/Chicago:20230803T100000
LOCATION:
SUMMARY:Firefighter Flo: An Interactive Preschool Class
END:VEVENT
END:VCALENDAR
