BEGIN:VCALENDAR
VERSION:2.0
PRODID:-//midwestchildcare.org//NONSGML kigkonsult.se iCalcreator 2.30.10//
CALSCALE:GREGORIAN
METHOD:PUBLISH
UID:fb776429-5803-4628-9038-b75ff63e790a
X-WR-CALDESC:Firefighter Flo: An Interactive Preschool Class\n\nYou are inv
 ited to a Zoom meeting.\nWhen: Aug 3\, 2023 10:00 AM Central Time (US and 
 Canada)\n\nRegister in advance for this meeting:\nhttps://us02web.zoom.us/
 meeting/register/tZMlduyhrDktEtC3jHpWWaznUIdHw3W-FBZu\n\nAfter registering
 \, you will receive a confirmation email containing information about join
 ing the meeting.
X-WR-RELCALID:4264c356ad0c3b64ef4a4e81cbbf17af
X-WR-TIMEZONE:America/Chicago
BEGIN:VTIMEZONE
TZID:America/Chicago
BEGIN:STANDARD
TZNAME:CST
DTSTART:20221106T020000
TZOFFSETFROM:-0500
TZOFFSETTO:-0600
RDATE:20231105T020000
RDATE:20241103T020000
END:STANDARD
BEGIN:DAYLIGHT
TZNAME:CDT
DTSTART:20230312T020000
TZOFFSETFROM:-0600
TZOFFSETTO:-0500
RDATE:20240310T020000
END:DAYLIGHT
END:VTIMEZONE
BEGIN:VEVENT
UID:b492137b-93d1-440d-90c6-50d04b8cb0c7
DTSTAMP:20260422T114355Z
DESCRIPTION:Firefighter Flo: An Interactive Preschool Class\n\nYou are invi
 ted to a Zoom meeting.\nWhen: Aug 3\, 2023 10:00 AM Central Time (US and C
 anada)\n\nRegister in advance for this meeting:\nhttps://us02web.zoom.us/m
 eeting/register/tZMlduyhrDktEtC3jHpWWaznUIdHw3W-FBZu\n\nAfter registering\
 , you will receive a confirmation email containing information about joini
 ng the meeting.
DTSTART;TZID=America/Chicago:20230803T100000
DTEND;TZID=America/Chicago:20230803T103000
LOCATION:
SUMMARY:Firefighter Flo: An Interactive Preschool Class
END:VEVENT
END:VCALENDAR
