BEGIN:VCALENDAR
VERSION:2.0
PRODID:-//midwestchildcare.org//NONSGML kigkonsult.se iCalcreator 2.30.10//
CALSCALE:GREGORIAN
METHOD:PUBLISH
UID:050083f1-4020-4a04-b036-b2162af05705
X-WR-CALDESC:Firefighter Flo: An Interactive Preschool Class\n\nYou are inv
 ited to a Zoom meeting.\nWhen: Aug 3\, 2023 09:00 AM Central Time (US and 
 Canada)\n\nRegister in advance for this meeting:\nhttps://us02web.zoom.us/
 meeting/register/tZwodu2tqTkvEtaJaZKDTpKYM1hjfKplO7oz\n\nAfter registering
 \, you will receive a confirmation email containing information about join
 ing the meeting.
X-WR-RELCALID:51054906114edb4540cbdb7bc32f6f5d
X-WR-TIMEZONE:America/Chicago
BEGIN:VTIMEZONE
TZID:America/Chicago
BEGIN:STANDARD
TZNAME:CST
DTSTART:20221106T020000
TZOFFSETFROM:-0500
TZOFFSETTO:-0600
RDATE:20231105T020000
RDATE:20241103T020000
END:STANDARD
BEGIN:DAYLIGHT
TZNAME:CDT
DTSTART:20230312T020000
TZOFFSETFROM:-0600
TZOFFSETTO:-0500
RDATE:20240310T020000
END:DAYLIGHT
END:VTIMEZONE
BEGIN:VEVENT
UID:255ba6a7-fc07-4e96-b95f-c017e0f138e3
DTSTAMP:20260422T114427Z
DESCRIPTION:Firefighter Flo: An Interactive Preschool Class\n\nYou are invi
 ted to a Zoom meeting.\nWhen: Aug 3\, 2023 09:00 AM Central Time (US and C
 anada)\n\nRegister in advance for this meeting:\nhttps://us02web.zoom.us/m
 eeting/register/tZwodu2tqTkvEtaJaZKDTpKYM1hjfKplO7oz\n\nAfter registering\
 , you will receive a confirmation email containing information about joini
 ng the meeting.
DTSTART;TZID=America/Chicago:20230803T090000
DTEND;TZID=America/Chicago:20230803T093000
LOCATION:
SUMMARY:Firefighter Flo: An Interactive Preschool Class
END:VEVENT
END:VCALENDAR
