BEGIN:VCALENDAR
VERSION:2.0
PRODID:-//midwestchildcare.org//NONSGML kigkonsult.se iCalcreator 2.30.10//
CALSCALE:GREGORIAN
METHOD:PUBLISH
UID:f8bf966d-dd71-455d-9988-bbf34e097a28
X-WR-CALDESC:Please register for Common Nutritional Deficiencies in Childre
 n on Jul 31\, 2023 7:00 PM CDT at:\n\nhttps://attendee.gotowebinar.com/reg
 ister/5095453974647815518\n\nAfter registering\, you will receive a confir
 mation email containing information about joining the webinar.
X-WR-RELCALID:2da6044f469784e4c727a7077ad7c2b7
X-WR-TIMEZONE:America/Chicago
BEGIN:VTIMEZONE
TZID:America/Chicago
BEGIN:STANDARD
TZNAME:CST
DTSTART:20221106T020000
TZOFFSETFROM:-0500
TZOFFSETTO:-0600
RDATE:20231105T020000
RDATE:20241103T020000
END:STANDARD
BEGIN:DAYLIGHT
TZNAME:CDT
DTSTART:20230312T020000
TZOFFSETFROM:-0600
TZOFFSETTO:-0500
RDATE:20240310T020000
END:DAYLIGHT
END:VTIMEZONE
BEGIN:VEVENT
UID:2390ebd8-664b-43e2-9741-4256feb810e2
DTSTAMP:20260422T140337Z
DESCRIPTION:Please register for Common Nutritional Deficiencies in Children
  on Jul 31\, 2023 7:00 PM CDT at:\n\nhttps://attendee.gotowebinar.com/regi
 ster/5095453974647815518\n\nAfter registering\, you will receive a confirm
 ation email containing information about joining the webinar.
DTSTART;TZID=America/Chicago:20230731T190000
DTEND;TZID=America/Chicago:20230731T200000
LOCATION:
SUMMARY:Common Nutritional Deficiencies in Children | Webinar
END:VEVENT
END:VCALENDAR
