BEGIN:VCALENDAR
VERSION:2.0
PRODID:-//midwestchildcare.org//NONSGML kigkonsult.se iCalcreator 2.30.10//
CALSCALE:GREGORIAN
METHOD:PUBLISH
UID:50308864-6384-41c0-9cde-5caccdea1571
X-WR-CALDESC:Be Who You Are: An Interactive Preschool Class\n\nYou are invi
 ted to a Zoom meeting.\nWhen: Jul 27\, 2023 10:00 AM Central Time (US and 
 Canada)\n\nRegister in advance for this meeting:\nhttps://us02web.zoom.us/
 meeting/register/tZAuf-Gppj4uHdJM4mi7kLSjpJeRWBQzdi6n\n\nAfter registering
 \, you will receive a confirmation email containing information about join
 ing the meeting.
X-WR-RELCALID:038aac402e24118cb924632c3ee2b14a
X-WR-TIMEZONE:America/Chicago
BEGIN:VTIMEZONE
TZID:America/Chicago
BEGIN:STANDARD
TZNAME:CST
DTSTART:20221106T020000
TZOFFSETFROM:-0500
TZOFFSETTO:-0600
RDATE:20231105T020000
RDATE:20241103T020000
END:STANDARD
BEGIN:DAYLIGHT
TZNAME:CDT
DTSTART:20230312T020000
TZOFFSETFROM:-0600
TZOFFSETTO:-0500
RDATE:20240310T020000
END:DAYLIGHT
END:VTIMEZONE
BEGIN:VEVENT
UID:f1762278-7b96-4994-885d-ca6a44ac8bb4
DTSTAMP:20260422T134036Z
DESCRIPTION:Be Who You Are: An Interactive Preschool Class\n\nYou are invit
 ed to a Zoom meeting.\nWhen: Jul 27\, 2023 10:00 AM Central Time (US and C
 anada)\n\nRegister in advance for this meeting:\nhttps://us02web.zoom.us/m
 eeting/register/tZAuf-Gppj4uHdJM4mi7kLSjpJeRWBQzdi6n\n\nAfter registering\
 , you will receive a confirmation email containing information about joini
 ng the meeting.
DTSTART;TZID=America/Chicago:20230727T093000
DTEND;TZID=America/Chicago:20230727T100000
LOCATION:
SUMMARY:Be Who You Are: An Interactive Preschool Class
END:VEVENT
END:VCALENDAR
