BEGIN:VCALENDAR
VERSION:2.0
PRODID:-//midwestchildcare.org//NONSGML kigkonsult.se iCalcreator 2.30.10//
CALSCALE:GREGORIAN
METHOD:PUBLISH
UID:daa295e1-a5cc-4fca-9a86-81ad1234de44
X-WR-CALDESC:Be Who You Are: An Interactive Preschool Class\n\nYou are invi
 ted to a Zoom meeting.\nWhen: Jul 27\, 2023 09:00 AM Central Time (US and 
 Canada)\n\nRegister in advance for this meeting:\nhttps://us02web.zoom.us/
 meeting/register/tZUrc-qvpjMoH9ESti4jjrrgmESQh0aLA-OG\n\nAfter registering
 \, you will receive a confirmation email containing information about join
 ing the meeting.
X-WR-RELCALID:8f2ddca9b6679f5e9552dd772094c23b
X-WR-TIMEZONE:America/Chicago
BEGIN:VTIMEZONE
TZID:America/Chicago
BEGIN:STANDARD
TZNAME:CST
DTSTART:20221106T020000
TZOFFSETFROM:-0500
TZOFFSETTO:-0600
RDATE:20231105T020000
RDATE:20241103T020000
END:STANDARD
BEGIN:DAYLIGHT
TZNAME:CDT
DTSTART:20230312T020000
TZOFFSETFROM:-0600
TZOFFSETTO:-0500
RDATE:20240310T020000
END:DAYLIGHT
END:VTIMEZONE
BEGIN:VEVENT
UID:8b6d4c7b-9d7a-4c5f-b516-8c848f52eb45
DTSTAMP:20260422T133951Z
DESCRIPTION:Be Who You Are: An Interactive Preschool Class\n\nYou are invit
 ed to a Zoom meeting.\nWhen: Jul 27\, 2023 09:00 AM Central Time (US and C
 anada)\n\nRegister in advance for this meeting:\nhttps://us02web.zoom.us/m
 eeting/register/tZUrc-qvpjMoH9ESti4jjrrgmESQh0aLA-OG\n\nAfter registering\
 , you will receive a confirmation email containing information about joini
 ng the meeting.
DTSTART;TZID=America/Chicago:20230727T090000
DTEND;TZID=America/Chicago:20230727T093000
LOCATION:
SUMMARY:Be Who You Are: An Interactive Preschool Class
END:VEVENT
END:VCALENDAR
