BEGIN:VCALENDAR
VERSION:2.0
PRODID:-//midwestchildcare.org//NONSGML kigkonsult.se iCalcreator 2.30.10//
CALSCALE:GREGORIAN
METHOD:PUBLISH
UID:cf79afcb-8975-464e-a88e-5f9fecc65914
X-WR-CALDESC:Neck and Neck: An Interactive Preschool Class\n\nYou are invit
 ed to a Zoom meeting.\nWhen: Jul 13\, 2023 10:00 AM Central Time (US and C
 anada)\n\nRegister in advance for this meeting:\nhttps://us02web.zoom.us/m
 eeting/register/tZ0oc-mpqDgjG9yHOZzZwq4n_s4datcJDGhg\n\nAfter registering\
 , you will receive a confirmation email containing information about joini
 ng the meeting.
X-WR-RELCALID:12118651e2c1be295a476562463528bf
X-WR-TIMEZONE:America/Chicago
BEGIN:VTIMEZONE
TZID:America/Chicago
BEGIN:STANDARD
TZNAME:CST
DTSTART:20221106T020000
TZOFFSETFROM:-0500
TZOFFSETTO:-0600
RDATE:20231105T020000
RDATE:20241103T020000
END:STANDARD
BEGIN:DAYLIGHT
TZNAME:CDT
DTSTART:20230312T020000
TZOFFSETFROM:-0600
TZOFFSETTO:-0500
RDATE:20240310T020000
END:DAYLIGHT
END:VTIMEZONE
BEGIN:VEVENT
UID:94d61678-befc-4784-ae33-bd4c247be113
DTSTAMP:20260422T133826Z
DESCRIPTION:Neck and Neck: An Interactive Preschool Class\n\nYou are invite
 d to a Zoom meeting.\nWhen: Jul 13\, 2023 10:00 AM Central Time (US and Ca
 nada)\n\nRegister in advance for this meeting:\nhttps://us02web.zoom.us/me
 eting/register/tZ0oc-mpqDgjG9yHOZzZwq4n_s4datcJDGhg\n\nAfter registering\,
  you will receive a confirmation email containing information about joinin
 g the meeting.
DTSTART;TZID=America/Chicago:20230713T100000
DTEND;TZID=America/Chicago:20230713T103000
LOCATION:
SUMMARY:Neck and Neck: An Interactive Preschool Class
END:VEVENT
END:VCALENDAR
