BEGIN:VCALENDAR
VERSION:2.0
PRODID:-//midwestchildcare.org//NONSGML kigkonsult.se iCalcreator 2.30.10//
CALSCALE:GREGORIAN
METHOD:PUBLISH
UID:ef84d33e-4dc4-4336-97a5-5df2cdccf661
X-WR-CALDESC:Neck and Neck: An Interactive Preschool Class\n\nYou are invit
 ed to a Zoom meeting.When: Jul 13\, 2023 09:30 AM Central Time (US and Can
 ada)\n\nRegister in advance for this meeting:\nhttps://us02web.zoom.us/mee
 ting/register/tZEvf-qupz8sGNHhzJ6gl5SAKJuaijKQf2b6\n\nAfter registering\, 
 you will receive a confirmation email containing information about joining
  the meeting.
X-WR-RELCALID:964ab181fafe3f528938a70300494305
X-WR-TIMEZONE:America/Chicago
BEGIN:VTIMEZONE
TZID:America/Chicago
BEGIN:STANDARD
TZNAME:CST
DTSTART:20221106T020000
TZOFFSETFROM:-0500
TZOFFSETTO:-0600
RDATE:20231105T020000
RDATE:20241103T020000
END:STANDARD
BEGIN:DAYLIGHT
TZNAME:CDT
DTSTART:20230312T020000
TZOFFSETFROM:-0600
TZOFFSETTO:-0500
RDATE:20240310T020000
END:DAYLIGHT
END:VTIMEZONE
BEGIN:VEVENT
UID:93bae9d0-f4b9-4a9e-b2f8-4a21e8daa6eb
DTSTAMP:20260422T133826Z
DESCRIPTION:Neck and Neck: An Interactive Preschool Class\n\nYou are invite
 d to a Zoom meeting.When: Jul 13\, 2023 09:30 AM Central Time (US and Cana
 da)\n\nRegister in advance for this meeting:\nhttps://us02web.zoom.us/meet
 ing/register/tZEvf-qupz8sGNHhzJ6gl5SAKJuaijKQf2b6\n\nAfter registering\, y
 ou will receive a confirmation email containing information about joining 
 the meeting.
DTSTART;TZID=America/Chicago:20230713T093000
DTEND;TZID=America/Chicago:20230713T100000
LOCATION:
SUMMARY:Neck and Neck: An Interactive Preschool Class
END:VEVENT
END:VCALENDAR
