BEGIN:VCALENDAR
VERSION:2.0
PRODID:-//midwestchildcare.org//NONSGML kigkonsult.se iCalcreator 2.30.10//
CALSCALE:GREGORIAN
METHOD:PUBLISH
UID:7f90d436-52df-4ae5-9d27-229e5458cafc
X-WR-CALDESC:Truck Full of Ducks: An Interactive Preschool Class\n\nYou are
  invited to a Zoom meeting.\nWhen: Jun 29\, 2023 09:00 AM Central Time (US
  and Canada) \n\nRegister in advance for this meeting:\nhttps://us02web.zo
 om.us/meeting/register/tZwpceGsqTgrEtw2c_4CjSKY7fgZD3pQnWJg\n\nAfter regis
 tering\, you will receive a confirmation email containing information abou
 t joining the meeting.
X-WR-RELCALID:5fc0fe3dd83bd52651d35f2392322e1e
X-WR-TIMEZONE:America/Chicago
BEGIN:VTIMEZONE
TZID:America/Chicago
BEGIN:STANDARD
TZNAME:CST
DTSTART:20221106T020000
TZOFFSETFROM:-0500
TZOFFSETTO:-0600
RDATE:20231105T020000
RDATE:20241103T020000
END:STANDARD
BEGIN:DAYLIGHT
TZNAME:CDT
DTSTART:20230312T020000
TZOFFSETFROM:-0600
TZOFFSETTO:-0500
RDATE:20240310T020000
END:DAYLIGHT
END:VTIMEZONE
BEGIN:VEVENT
UID:7cafafc3-d52b-4f06-be60-4dbf9639ded5
DTSTAMP:20260422T154143Z
DESCRIPTION:Truck Full of Ducks: An Interactive Preschool Class\n\nYou are 
 invited to a Zoom meeting.\nWhen: Jun 29\, 2023 09:00 AM Central Time (US 
 and Canada) \n\nRegister in advance for this meeting:\nhttps://us02web.zoo
 m.us/meeting/register/tZwpceGsqTgrEtw2c_4CjSKY7fgZD3pQnWJg\n\nAfter regist
 ering\, you will receive a confirmation email containing information about
  joining the meeting.
DTSTART;TZID=America/Chicago:20230629T090000
DTEND;TZID=America/Chicago:20230629T093000
LOCATION:
SUMMARY:Truck Full of Ducks: An Interactive Preschool Class
END:VEVENT
END:VCALENDAR
