BEGIN:VCALENDAR
VERSION:2.0
PRODID:-//midwestchildcare.org//NONSGML kigkonsult.se iCalcreator 2.30.10//
CALSCALE:GREGORIAN
METHOD:PUBLISH
UID:6e5671c0-4121-4563-9daa-85eb10ae75ae
X-WR-CALDESC:Please register for Help with Picky Eaters on Jun 26\, 2023 7:
 00 PM CDT at:\n\nhttps://attendee.gotowebinar.com/register/169304822612958
 6782\n\nAfter registering\, you will receive a confirmation email containi
 ng information about joining the webinar.
X-WR-RELCALID:d440338d21473918de1250a290ba4d99
X-WR-TIMEZONE:America/Chicago
BEGIN:VTIMEZONE
TZID:America/Chicago
BEGIN:STANDARD
TZNAME:CST
DTSTART:20221106T020000
TZOFFSETFROM:-0500
TZOFFSETTO:-0600
RDATE:20231105T020000
RDATE:20241103T020000
END:STANDARD
BEGIN:DAYLIGHT
TZNAME:CDT
DTSTART:20230312T020000
TZOFFSETFROM:-0600
TZOFFSETTO:-0500
RDATE:20240310T020000
END:DAYLIGHT
END:VTIMEZONE
BEGIN:VEVENT
UID:82d608b4-5075-4d67-99e8-37b4ec6524b9
DTSTAMP:20260422T152444Z
DESCRIPTION:Please register for Help with Picky Eaters on Jun 26\, 2023 7:0
 0 PM CDT at:\n\nhttps://attendee.gotowebinar.com/register/1693048226129586
 782\n\nAfter registering\, you will receive a confirmation email containin
 g information about joining the webinar.
DTSTART;TZID=America/Chicago:20230626T190000
DTEND;TZID=America/Chicago:20230626T200000
LOCATION:
SUMMARY:Help with Picky Eaters | Webinar
END:VEVENT
END:VCALENDAR
