BEGIN:VCALENDAR
VERSION:2.0
PRODID:-//midwestchildcare.org//NONSGML kigkonsult.se iCalcreator 2.30.10//
CALSCALE:GREGORIAN
METHOD:PUBLISH
UID:8b839334-4e11-4f0b-9863-87aba532c281
X-WR-CALDESC:You are invited to a Zoom meeting. Discover Invertebrates: A P
 reschool Educational Class\nWhen: Jun 26\, 2023 09:00 -9:30AM Central Time
  (US and Canada)\n\nRegister in advance for this meeting:\nhttps://us02web
 .zoom.us/meeting/register/tZwkdOyspjwuH9dRky7USAcj0ao53YlIqydr\n\nAfter re
 gistering\, you will receive a confirmation email containing information a
 bout joining the meeting.
X-WR-RELCALID:06c9a4b18763b8168f4237bd6d1d9c03
X-WR-TIMEZONE:America/Chicago
BEGIN:VTIMEZONE
TZID:America/Chicago
BEGIN:STANDARD
TZNAME:CST
DTSTART:20221106T020000
TZOFFSETFROM:-0500
TZOFFSETTO:-0600
RDATE:20231105T020000
RDATE:20241103T020000
END:STANDARD
BEGIN:DAYLIGHT
TZNAME:CDT
DTSTART:20230312T020000
TZOFFSETFROM:-0600
TZOFFSETTO:-0500
RDATE:20240310T020000
END:DAYLIGHT
END:VTIMEZONE
BEGIN:VEVENT
UID:f7734e04-ff75-4841-8d6b-addcdc715f54
DTSTAMP:20260422T154053Z
DESCRIPTION:You are invited to a Zoom meeting. Discover Invertebrates: A Pr
 eschool Educational Class\nWhen: Jun 26\, 2023 09:00 -9:30AM Central Time 
 (US and Canada)\n\nRegister in advance for this meeting:\nhttps://us02web.
 zoom.us/meeting/register/tZwkdOyspjwuH9dRky7USAcj0ao53YlIqydr\n\nAfter reg
 istering\, you will receive a confirmation email containing information ab
 out joining the meeting.
DTSTART;TZID=America/Chicago:20230626T090000
DTEND;TZID=America/Chicago:20230627T093000
LOCATION:
SUMMARY:Discover Invertebrates: A Preschool Educational Class | Via Zoom
END:VEVENT
END:VCALENDAR
