BEGIN:VCALENDAR
VERSION:2.0
PRODID:-//midwestchildcare.org//NONSGML kigkonsult.se iCalcreator 2.30.10//
CALSCALE:GREGORIAN
METHOD:PUBLISH
UID:32cbd2e4-23f6-4876-8a42-d614d9616955
X-WR-CALDESC:Please register for Understanding and Prevention of Eating Dis
 orders on Jun 23\, 2023 1:00 PM CDT at:\n\nhttps://attendee.gotowebinar.co
 m/register/3922140926673863770\n\nAfter registering\, you will receive a c
 onfirmation email containing information about joining the webinar.
X-WR-RELCALID:25391893ddafccf3cabefd2df4dcec7e
X-WR-TIMEZONE:America/Chicago
BEGIN:VTIMEZONE
TZID:America/Chicago
BEGIN:STANDARD
TZNAME:CST
DTSTART:20221106T020000
TZOFFSETFROM:-0500
TZOFFSETTO:-0600
RDATE:20231105T020000
RDATE:20241103T020000
END:STANDARD
BEGIN:DAYLIGHT
TZNAME:CDT
DTSTART:20230312T020000
TZOFFSETFROM:-0600
TZOFFSETTO:-0500
RDATE:20240310T020000
END:DAYLIGHT
END:VTIMEZONE
BEGIN:VEVENT
UID:7f5a5488-f7b0-4c70-b4a2-59af1bd844ab
DTSTAMP:20260423T125737Z
DESCRIPTION:Please register for Understanding and Prevention of Eating Diso
 rders on Jun 23\, 2023 1:00 PM CDT at:\n\nhttps://attendee.gotowebinar.com
 /register/3922140926673863770\n\nAfter registering\, you will receive a co
 nfirmation email containing information about joining the webinar.
DTSTART;TZID=America/Chicago:20230623T130000
DTEND;TZID=America/Chicago:20230623T140000
LOCATION:
SUMMARY:Understanding and Prevention of Eating Disorders | Webinar
END:VEVENT
END:VCALENDAR
