BEGIN:VCALENDAR
VERSION:2.0
PRODID:-//midwestchildcare.org//NONSGML kigkonsult.se iCalcreator 2.30.10//
CALSCALE:GREGORIAN
METHOD:PUBLISH
UID:63f7d912-fb74-4d82-aaf9-c6080ab50c3c
X-WR-CALDESC:The Perfect Pet: An Interactive Preschool Class\n\nYou are inv
 ited to a Zoom meeting. \nWhen: Jun 22\, 2023 09:00 AM Central Time (US an
 d Canada) \n\nRegister in advance for this meeting:\nhttps://us02web.zoom.
 us/meeting/register/tZEvdO-opzspGt1Dt2_rmwrITiPyc9kiqg60 \n\nAfter registe
 ring\, you will receive a confirmation email containing information about 
 joining the meeting.
X-WR-RELCALID:6e7a2078617b1634a5581eb570ef8c4b
X-WR-TIMEZONE:America/Chicago
BEGIN:VTIMEZONE
TZID:America/Chicago
BEGIN:STANDARD
TZNAME:CST
DTSTART:20221106T020000
TZOFFSETFROM:-0500
TZOFFSETTO:-0600
RDATE:20231105T020000
RDATE:20241103T020000
END:STANDARD
BEGIN:DAYLIGHT
TZNAME:CDT
DTSTART:20230312T020000
TZOFFSETFROM:-0600
TZOFFSETTO:-0500
RDATE:20240310T020000
END:DAYLIGHT
END:VTIMEZONE
BEGIN:VEVENT
UID:bdd80bec-9866-4e26-a5f9-a1c3addba19c
DTSTAMP:20260422T153726Z
DESCRIPTION:The Perfect Pet: An Interactive Preschool Class\n\nYou are invi
 ted to a Zoom meeting. \nWhen: Jun 22\, 2023 09:00 AM Central Time (US and
  Canada) \n\nRegister in advance for this meeting:\nhttps://us02web.zoom.u
 s/meeting/register/tZEvdO-opzspGt1Dt2_rmwrITiPyc9kiqg60 \n\nAfter register
 ing\, you will receive a confirmation email containing information about j
 oining the meeting.
DTSTART;TZID=America/Chicago:20230622T090000
DTEND;TZID=America/Chicago:20230622T093000
LOCATION:
SUMMARY:The Perfect Pet: An Interactive Preschool Class
END:VEVENT
END:VCALENDAR
