BEGIN:VCALENDAR
VERSION:2.0
PRODID:-//midwestchildcare.org//NONSGML kigkonsult.se iCalcreator 2.30.10//
CALSCALE:GREGORIAN
METHOD:PUBLISH
UID:13aed0f9-7a72-49d0-8c6b-f8af3203ec58
X-WR-CALDESC:A Rock Can Be: An Interactive Preschool Class\n\nYou are invit
 ed to a Zoom meeting.\nWhen: May 25\, 2023 09:30 AM Central Time (US and C
 anada)\n\nRegister in advance for this meeting:\nhttps://us02web.zoom.us/m
 eeting/register/tZEkcOCoqzMvEtKsJfLIoWRh3vI1yHDOlfBD\n\nAfter registering\
 , you will receive a confirmation email containing information about joini
 ng the meeting.
X-WR-RELCALID:c837937ddb28d7dc6f55cefd1e8d5ec4
X-WR-TIMEZONE:America/Chicago
BEGIN:VTIMEZONE
TZID:America/Chicago
BEGIN:STANDARD
TZNAME:CST
DTSTART:20221106T020000
TZOFFSETFROM:-0500
TZOFFSETTO:-0600
RDATE:20231105T020000
RDATE:20241103T020000
END:STANDARD
BEGIN:DAYLIGHT
TZNAME:CDT
DTSTART:20230312T020000
TZOFFSETFROM:-0600
TZOFFSETTO:-0500
RDATE:20240310T020000
END:DAYLIGHT
END:VTIMEZONE
BEGIN:VEVENT
UID:4b982c24-3682-40f9-8de2-08d88bb8ee79
DTSTAMP:20260424T095233Z
DESCRIPTION:A Rock Can Be: An Interactive Preschool Class\n\nYou are invite
 d to a Zoom meeting.\nWhen: May 25\, 2023 09:30 AM Central Time (US and Ca
 nada)\n\nRegister in advance for this meeting:\nhttps://us02web.zoom.us/me
 eting/register/tZEkcOCoqzMvEtKsJfLIoWRh3vI1yHDOlfBD\n\nAfter registering\,
  you will receive a confirmation email containing information about joinin
 g the meeting.
DTSTART;TZID=America/Chicago:20230525T093000
DTEND;TZID=America/Chicago:20230525T100000
LOCATION:
SUMMARY:A Rock Can Be: An Interactive Preschool Class
END:VEVENT
END:VCALENDAR
