BEGIN:VCALENDAR
VERSION:2.0
PRODID:-//midwestchildcare.org//NONSGML kigkonsult.se iCalcreator 2.30.10//
CALSCALE:GREGORIAN
METHOD:PUBLISH
UID:b0baf2cc-c018-4629-884e-edba24f25202
X-WR-CALDESC:Moth and Butterfly: An Interactive Preschool Class\n\nYou are 
 invited to a Zoom meeting.\nWhen: May 18\, 2023 09:30 AM Central Time (US 
 and Canada)\n\nRegister in advance for this meeting:\nhttps://us02web.zoom
 .us/meeting/register/tZAtceGvpj8rEtSICpeLmMlvBAdCX7mkOzY2\n\nAfter registe
 ring\, you will receive a confirmation email containing information about 
 joining the meeting.
X-WR-RELCALID:0a5468e4c5f35b946b6d938ed895cc23
X-WR-TIMEZONE:America/Chicago
BEGIN:VTIMEZONE
TZID:America/Chicago
BEGIN:STANDARD
TZNAME:CST
DTSTART:20221106T020000
TZOFFSETFROM:-0500
TZOFFSETTO:-0600
RDATE:20231105T020000
RDATE:20241103T020000
END:STANDARD
BEGIN:DAYLIGHT
TZNAME:CDT
DTSTART:20230312T020000
TZOFFSETFROM:-0600
TZOFFSETTO:-0500
RDATE:20240310T020000
END:DAYLIGHT
END:VTIMEZONE
BEGIN:VEVENT
UID:93c006e2-7a4f-4641-921d-f4e3c7468911
DTSTAMP:20260424T100019Z
DESCRIPTION:Moth and Butterfly: An Interactive Preschool Class\n\nYou are i
 nvited to a Zoom meeting.\nWhen: May 18\, 2023 09:30 AM Central Time (US a
 nd Canada)\n\nRegister in advance for this meeting:\nhttps://us02web.zoom.
 us/meeting/register/tZAtceGvpj8rEtSICpeLmMlvBAdCX7mkOzY2\n\nAfter register
 ing\, you will receive a confirmation email containing information about j
 oining the meeting.
DTSTART;TZID=America/Chicago:20230518T093000
DTEND;TZID=America/Chicago:20230518T100000
LOCATION:
SUMMARY:Moth and Butterfly: An Interactive Preschool Class
END:VEVENT
END:VCALENDAR
