BEGIN:VCALENDAR
VERSION:2.0
PRODID:-//midwestchildcare.org//NONSGML kigkonsult.se iCalcreator 2.30.10//
CALSCALE:GREGORIAN
METHOD:PUBLISH
UID:aa231a39-83f4-49fb-887e-c259508ea7af
X-WR-CALDESC:Please register for Lead Risk and Children on May 15\, 2023 1:
 00 PM CDT at:\n\nhttps://attendee.gotowebinar.com/register/740941467649483
 6319\n\nAfter registering\, you will receive a confirmation email containi
 ng information about joining the webinar.
X-WR-RELCALID:5a06ded235c6d324eef2d2127d61263d
X-WR-TIMEZONE:America/Chicago
BEGIN:VTIMEZONE
TZID:America/Chicago
BEGIN:STANDARD
TZNAME:CST
DTSTART:20221106T020000
TZOFFSETFROM:-0500
TZOFFSETTO:-0600
RDATE:20231105T020000
RDATE:20241103T020000
END:STANDARD
BEGIN:DAYLIGHT
TZNAME:CDT
DTSTART:20230312T020000
TZOFFSETFROM:-0600
TZOFFSETTO:-0500
RDATE:20240310T020000
END:DAYLIGHT
END:VTIMEZONE
BEGIN:VEVENT
UID:6a172016-bb78-4c42-87ee-4a8dabb4b0df
DTSTAMP:20260424T095504Z
DESCRIPTION:Please register for Lead Risk and Children on May 15\, 2023 1:0
 0 PM CDT at:\n\nhttps://attendee.gotowebinar.com/register/7409414676494836
 319\n\nAfter registering\, you will receive a confirmation email containin
 g information about joining the webinar.
DTSTART;TZID=America/Chicago:20230515T130000
DTEND;TZID=America/Chicago:20230515T140000
LOCATION:
SUMMARY:Lead Risk and Children | Webinar
END:VEVENT
END:VCALENDAR
