BEGIN:VCALENDAR
VERSION:2.0
PRODID:-//midwestchildcare.org//NONSGML kigkonsult.se iCalcreator 2.30.10//
CALSCALE:GREGORIAN
METHOD:PUBLISH
UID:572aa288-0d04-4dfa-bf73-20b90eb7f066
X-WR-CALDESC:The Chicken Who Couldn't: An Interactive Preschool Class\n\nYo
 u are invited to a Zoom meeting.\nWhen: May 11\, 2023 09:00 AM Central Tim
 e (US and Canada)\n\nRegister in advance for this meeting:\nhttps://us02we
 b.zoom.us/meeting/register/tZMsf-moqzktHtMLP3o4fIxacigKg9CD_rBZ\n\nAfter r
 egistering\, you will receive a confirmation email containing information 
 about joining the meeting.
X-WR-RELCALID:8ed658b3c77e61d345ec1187205274fe
X-WR-TIMEZONE:America/Chicago
BEGIN:VTIMEZONE
TZID:America/Chicago
BEGIN:STANDARD
TZNAME:CST
DTSTART:20221106T020000
TZOFFSETFROM:-0500
TZOFFSETTO:-0600
RDATE:20231105T020000
RDATE:20241103T020000
END:STANDARD
BEGIN:DAYLIGHT
TZNAME:CDT
DTSTART:20230312T020000
TZOFFSETFROM:-0600
TZOFFSETTO:-0500
RDATE:20240310T020000
END:DAYLIGHT
END:VTIMEZONE
BEGIN:VEVENT
UID:249caf46-d3d8-4d8a-8c13-a21a845c61e9
DTSTAMP:20260424T095714Z
DESCRIPTION:The Chicken Who Couldn't: An Interactive Preschool Class\n\nYou
  are invited to a Zoom meeting.\nWhen: May 11\, 2023 09:00 AM Central Time
  (US and Canada)\n\nRegister in advance for this meeting:\nhttps://us02web
 .zoom.us/meeting/register/tZMsf-moqzktHtMLP3o4fIxacigKg9CD_rBZ\n\nAfter re
 gistering\, you will receive a confirmation email containing information a
 bout joining the meeting.
DTSTART;TZID=America/Chicago:20230511T090000
DTEND;TZID=America/Chicago:20230511T093000
LOCATION:
SUMMARY:The Chicken Who Couldn't: An Interactive Preschool Class
END:VEVENT
END:VCALENDAR
