BEGIN:VCALENDAR
VERSION:2.0
PRODID:-//midwestchildcare.org//NONSGML kigkonsult.se iCalcreator 2.30.10//
CALSCALE:GREGORIAN
METHOD:PUBLISH
UID:82c54dee-6427-4400-80c7-3fccb09efbfe
X-WR-CALDESC:One Bean: An Interactive Preschool Class\n\nYou are invited to
  a Zoom meeting.\nWhen: May 4\, 2023 09:00 AM Central Time (US and Canada)
 \n\nRegister in advance for this meeting:\nhttps://us02web.zoom.us/meeting
 /register/tZMpc-irrjwtHNF_-gi1y06HaNkCbxsu-ubd\n\nAfter registering\, you 
 will receive a confirmation email containing information about joining the
  meeting.
X-WR-RELCALID:fe58787eeffbc718683a0e7b20943bb8
X-WR-TIMEZONE:America/Chicago
BEGIN:VTIMEZONE
TZID:America/Chicago
BEGIN:STANDARD
TZNAME:CST
DTSTART:20221106T020000
TZOFFSETFROM:-0500
TZOFFSETTO:-0600
RDATE:20231105T020000
END:STANDARD
BEGIN:DAYLIGHT
TZNAME:CDT
DTSTART:20230312T020000
TZOFFSETFROM:-0600
TZOFFSETTO:-0500
RDATE:20240310T020000
END:DAYLIGHT
END:VTIMEZONE
BEGIN:VEVENT
UID:65170d52-f60f-4aca-9221-d0afa05183db
DTSTAMP:20260424T104305Z
DESCRIPTION:One Bean: An Interactive Preschool Class\n\nYou are invited to 
 a Zoom meeting.\nWhen: May 4\, 2023 09:00 AM Central Time (US and Canada)
 \n\nRegister in advance for this meeting:\nhttps://us02web.zoom.us/meeting
 /register/tZMpc-irrjwtHNF_-gi1y06HaNkCbxsu-ubd\n\nAfter registering\, you 
 will receive a confirmation email containing information about joining the
  meeting.
DTSTART;TZID=America/Chicago:20230504T090000
DTEND;TZID=America/Chicago:20230504T093000
LOCATION:
SUMMARY:One Bean: An Interactive Preschool Class
END:VEVENT
END:VCALENDAR
