BEGIN:VCALENDAR
VERSION:2.0
PRODID:-//midwestchildcare.org//NONSGML kigkonsult.se iCalcreator 2.30.10//
CALSCALE:GREGORIAN
METHOD:PUBLISH
UID:e839aaf0-fa11-46c8-a629-b7cd96c36d57
X-WR-CALDESC:Promoting and Supporting Breastfeeding Moms | Webinar\n\nPleas
 e register for Promoting and Supporting Breastfeeding Moms on May 2\, 2023
  7:00 PM CDT at:\nhttps://attendee.gotowebinar.com/register/77163246551314
 76572\n\nAfter registering\, you will receive a confirmation email contain
 ing information about joining the webinar.
X-WR-RELCALID:9eec8e41de2277663bfb1d7f4686e94a
X-WR-TIMEZONE:America/Chicago
BEGIN:VTIMEZONE
TZID:America/Chicago
BEGIN:STANDARD
TZNAME:CST
DTSTART:20221106T020000
TZOFFSETFROM:-0500
TZOFFSETTO:-0600
RDATE:20231105T020000
END:STANDARD
BEGIN:DAYLIGHT
TZNAME:CDT
DTSTART:20230312T020000
TZOFFSETFROM:-0600
TZOFFSETTO:-0500
RDATE:20240310T020000
END:DAYLIGHT
END:VTIMEZONE
BEGIN:VEVENT
UID:af6dac3c-16f2-43bc-946e-92fd3b562312
DTSTAMP:20260424T103921Z
DESCRIPTION:Promoting and Supporting Breastfeeding Moms | Webinar\n\nPlease
  register for Promoting and Supporting Breastfeeding Moms on May 2\, 2023 
 7:00 PM CDT at:\nhttps://attendee.gotowebinar.com/register/771632465513147
 6572\n\nAfter registering\, you will receive a confirmation email containi
 ng information about joining the webinar.
DTSTART;TZID=America/Chicago:20230502T190000
DTEND;TZID=America/Chicago:20230502T200000
LOCATION:
SUMMARY:Promoting and Supporting Breastfeeding Moms | Webinar
END:VEVENT
END:VCALENDAR
