BEGIN:VCALENDAR
VERSION:2.0
PRODID:-//midwestchildcare.org//NONSGML kigkonsult.se iCalcreator 2.30.10//
CALSCALE:GREGORIAN
METHOD:PUBLISH
UID:1e6f9633-4039-4e1b-b80d-0905b4e6c83e
X-WR-CALDESC:Please register for Health Benefits of Soy on Jun 22\, 2023 1:
 00 PM CDT at:\n\nhttps://attendee.gotowebinar.com/register/625035239944708
 6683\n\nAfter registering\, you will receive a confirmation email containi
 ng information about joining the webinar.
X-WR-RELCALID:fc5c9900a81e456b94c6e057fdd00185
X-WR-TIMEZONE:America/Chicago
BEGIN:VTIMEZONE
TZID:America/Chicago
BEGIN:STANDARD
TZNAME:CST
DTSTART:20221106T020000
TZOFFSETFROM:-0500
TZOFFSETTO:-0600
RDATE:20231105T020000
END:STANDARD
BEGIN:DAYLIGHT
TZNAME:CDT
DTSTART:20230312T020000
TZOFFSETFROM:-0600
TZOFFSETTO:-0500
RDATE:20240310T020000
END:DAYLIGHT
END:VTIMEZONE
BEGIN:VEVENT
UID:cc8a4c55-4522-49bf-801c-2fba0b878273
DTSTAMP:20260424T115218Z
DESCRIPTION:Please register for Health Benefits of Soy on Jun 22\, 2023 1:0
 0 PM CDT at:\n\nhttps://attendee.gotowebinar.com/register/6250352399447086
 683\n\nAfter registering\, you will receive a confirmation email containin
 g information about joining the webinar.
DTSTART;TZID=America/Chicago:20230422T130000
DTEND;TZID=America/Chicago:20230422T140000
LOCATION:
SUMMARY:Health Benefits of Soy | Webinar
END:VEVENT
END:VCALENDAR
