BEGIN:VCALENDAR
VERSION:2.0
PRODID:-//midwestchildcare.org//NONSGML kigkonsult.se iCalcreator 2.30.10//
CALSCALE:GREGORIAN
METHOD:PUBLISH
UID:11259297-d89a-41d2-ae73-3e3bedceb38e
X-WR-CALDESC:Label Reading 101 | Webinar\n\nPlease register for Label Readi
 ng 101 on Apr 20\, 2023 7:00 PM CDT at:\n\nhttps://attendee.gotowebinar.co
 m/register/6934784093526944085\n\nAfter registering\, you will receive a c
 onfirmation email containing information about joining the webinar.\n
X-WR-RELCALID:e79313d2f3363e34ced9df81d70d2043
X-WR-TIMEZONE:America/Chicago
BEGIN:VTIMEZONE
TZID:America/Chicago
BEGIN:STANDARD
TZNAME:CST
DTSTART:20221106T020000
TZOFFSETFROM:-0500
TZOFFSETTO:-0600
RDATE:20231105T020000
END:STANDARD
BEGIN:DAYLIGHT
TZNAME:CDT
DTSTART:20230312T020000
TZOFFSETFROM:-0600
TZOFFSETTO:-0500
RDATE:20240310T020000
END:DAYLIGHT
END:VTIMEZONE
BEGIN:VEVENT
UID:9d7142ee-a273-4d5d-afba-7fccaed39aa8
DTSTAMP:20260424T114345Z
DESCRIPTION:Label Reading 101 | Webinar\n\nPlease register for Label Readin
 g 101 on Apr 20\, 2023 7:00 PM CDT at:\n\nhttps://attendee.gotowebinar.com
 /register/6934784093526944085\n\nAfter registering\, you will receive a co
 nfirmation email containing information about joining the webinar.\n
DTSTART;TZID=America/Chicago:20230420T190000
DTEND;TZID=America/Chicago:20230420T200000
LOCATION:
SUMMARY:Label Reading 101 | Webinar
END:VEVENT
END:VCALENDAR
