BEGIN:VCALENDAR
VERSION:2.0
PRODID:-//midwestchildcare.org//NONSGML kigkonsult.se iCalcreator 2.30.10//
CALSCALE:GREGORIAN
METHOD:PUBLISH
UID:388870bc-2122-4031-9b8c-f7d62c18d84d
X-WR-CALDESC:HSI Pediatric First Aid | CPR AED Child/Infant/Adult (2020)\n
 \nCLASS NUMBER:	30906949\nCLASS TYPE:	Classroom Training\nDESCRIPTION:	HSI Pe
 diatric First Aid | CPR AED Child/Infant/Adult (2020)\nLOCATION:	\n4505 S 9
 6th St\nOmaha\, NE 68127\nDATE/TIME:	04/20/2023\, 6:00 PM - 10:00 PM\n\nCon
 tact: Matthew Nagler @ mattsafetytraining@gmail.com
X-WR-RELCALID:717b1f7d566c92df612f9d2ffba17d1a
X-WR-TIMEZONE:America/Chicago
BEGIN:VTIMEZONE
TZID:America/Chicago
BEGIN:STANDARD
TZNAME:CST
DTSTART:20221106T020000
TZOFFSETFROM:-0500
TZOFFSETTO:-0600
RDATE:20231105T020000
END:STANDARD
BEGIN:DAYLIGHT
TZNAME:CDT
DTSTART:20230312T020000
TZOFFSETFROM:-0600
TZOFFSETTO:-0500
RDATE:20240310T020000
END:DAYLIGHT
END:VTIMEZONE
BEGIN:VEVENT
UID:17b6cf6a-02e9-4e4d-abde-6003b120e836
DTSTAMP:20260424T122136Z
DESCRIPTION:HSI Pediatric First Aid | CPR AED Child/Infant/Adult (2020)\n\n
 CLASS NUMBER:	30906949\nCLASS TYPE:	Classroom Training\nDESCRIPTION:	HSI Pedi
 atric First Aid | CPR AED Child/Infant/Adult (2020)\nLOCATION:	\n4505 S 96t
 h St\nOmaha\, NE 68127\nDATE/TIME:	04/20/2023\, 6:00 PM - 10:00 PM\n\nConta
 ct: Matthew Nagler @ mattsafetytraining@gmail.com
DTSTART;TZID=America/Chicago:20230420T180000
DTEND;TZID=America/Chicago:20230420T220000
LOCATION:
SUMMARY:HSI Pediatric First Aid | CPR AED Child/Infant/Adult (2020)
END:VEVENT
END:VCALENDAR
