BEGIN:VCALENDAR
VERSION:2.0
PRODID:-//midwestchildcare.org//NONSGML kigkonsult.se iCalcreator 2.30.10//
CALSCALE:GREGORIAN
METHOD:PUBLISH
UID:37eba188-5d16-4a57-b4d9-b03b0c083d55
X-WR-CALDESC:I Don't Want to be a Frog: An Interactive Preschool Class\n\nY
 ou are invited to a Zoom meeting.\nWhen: Apr 13\, 2023 10:00 AM Central Ti
 me (US and Canada)\n\nRegister in advance for this meeting:\nhttps://us02w
 eb.zoom.us/meeting/register/tZIuc-mhqTMvHdzNVktLMJTsC5hHOcfht2qn\n\nAfter 
 registering\, you will receive a confirmation email containing information
  about joining the meeting.
X-WR-RELCALID:54a76d07033bcea355b3285a8596fa34
X-WR-TIMEZONE:America/Chicago
BEGIN:VTIMEZONE
TZID:America/Chicago
BEGIN:STANDARD
TZNAME:CST
DTSTART:20221106T020000
TZOFFSETFROM:-0500
TZOFFSETTO:-0600
RDATE:20231105T020000
END:STANDARD
BEGIN:DAYLIGHT
TZNAME:CDT
DTSTART:20230312T020000
TZOFFSETFROM:-0600
TZOFFSETTO:-0500
RDATE:20240310T020000
END:DAYLIGHT
END:VTIMEZONE
BEGIN:VEVENT
UID:30e6104f-4e1c-48c4-8a9e-3297c0cdc979
DTSTAMP:20260424T115137Z
DESCRIPTION:I Don't Want to be a Frog: An Interactive Preschool Class\n\nYo
 u are invited to a Zoom meeting.\nWhen: Apr 13\, 2023 10:00 AM Central Tim
 e (US and Canada)\n\nRegister in advance for this meeting:\nhttps://us02we
 b.zoom.us/meeting/register/tZIuc-mhqTMvHdzNVktLMJTsC5hHOcfht2qn\n\nAfter r
 egistering\, you will receive a confirmation email containing information 
 about joining the meeting.
DTSTART;TZID=America/Chicago:20230413T100000
DTEND;TZID=America/Chicago:20230413T103000
LOCATION:
SUMMARY:I Don't Want to be a Frog: An Interactive Preschool Class
END:VEVENT
END:VCALENDAR
