BEGIN:VCALENDAR
VERSION:2.0
PRODID:-//midwestchildcare.org//NONSGML kigkonsult.se iCalcreator 2.30.10//
CALSCALE:GREGORIAN
METHOD:PUBLISH
UID:dc33477d-2f48-4444-98fa-48e54d1fbe97
X-WR-CALDESC:I Don't Want to be a Frog: An Interactive Preschool Class\n\nY
 ou are invited to a Zoom meeting.\nWhen: Apr 13\, 2023 09:00 AM Central Ti
 me (US and Canada)\n\nRegister in advance for this meeting:\nhttps://us02w
 eb.zoom.us/meeting/register/tZAlduyhqDgjHtXRDmo2rns1vSV4I6_JaVKo\n\nAfter 
 registering\, you will receive a confirmation email containing information
  about joining the meeting.
X-WR-RELCALID:0aba0de1bc819e8ca888b5251753c7c1
X-WR-TIMEZONE:America/Chicago
BEGIN:VTIMEZONE
TZID:America/Chicago
BEGIN:STANDARD
TZNAME:CST
DTSTART:20221106T020000
TZOFFSETFROM:-0500
TZOFFSETTO:-0600
RDATE:20231105T020000
END:STANDARD
BEGIN:DAYLIGHT
TZNAME:CDT
DTSTART:20230312T020000
TZOFFSETFROM:-0600
TZOFFSETTO:-0500
RDATE:20240310T020000
END:DAYLIGHT
END:VTIMEZONE
BEGIN:VEVENT
UID:1994d046-59ff-4bbd-a23b-f88c839af667
DTSTAMP:20260424T115106Z
DESCRIPTION:I Don't Want to be a Frog: An Interactive Preschool Class\n\nYo
 u are invited to a Zoom meeting.\nWhen: Apr 13\, 2023 09:00 AM Central Tim
 e (US and Canada)\n\nRegister in advance for this meeting:\nhttps://us02we
 b.zoom.us/meeting/register/tZAlduyhqDgjHtXRDmo2rns1vSV4I6_JaVKo\n\nAfter r
 egistering\, you will receive a confirmation email containing information 
 about joining the meeting.
DTSTART;TZID=America/Chicago:20230413T090000
DTEND;TZID=America/Chicago:20230413T093000
LOCATION:
SUMMARY:I Don't Want to be a Frog: An Interactive Preschool Class
END:VEVENT
END:VCALENDAR
