BEGIN:VCALENDAR
VERSION:2.0
PRODID:-//midwestchildcare.org//NONSGML kigkonsult.se iCalcreator 2.30.10//
CALSCALE:GREGORIAN
METHOD:PUBLISH
UID:b5bde24e-99e1-412c-a469-0fc146e9fd9b
X-WR-CALDESC:Gardening Ideas in a Childcare Setting | Webinar\n\nPlease reg
 ister for Gardening Ideas in a Childcare Setting  on Apr 11\, 2023 7:00 PM
  CDT at:\n\nhttps://attendee.gotowebinar.com/register/2556086788048464222
 \n\nAfter registering\, you will receive a confirmation email containing i
 nformation about joining the webinar.
X-WR-RELCALID:38c20f97abf3cf13da0aa2eb2949b3e0
X-WR-TIMEZONE:America/Chicago
BEGIN:VTIMEZONE
TZID:America/Chicago
BEGIN:STANDARD
TZNAME:CST
DTSTART:20221106T020000
TZOFFSETFROM:-0500
TZOFFSETTO:-0600
RDATE:20231105T020000
END:STANDARD
BEGIN:DAYLIGHT
TZNAME:CDT
DTSTART:20230312T020000
TZOFFSETFROM:-0600
TZOFFSETTO:-0500
RDATE:20240310T020000
END:DAYLIGHT
END:VTIMEZONE
BEGIN:VEVENT
UID:ef9d4590-9847-4ef0-830f-d576ee3dad2c
DTSTAMP:20260424T115035Z
DESCRIPTION:Gardening Ideas in a Childcare Setting | Webinar\n\nPlease regi
 ster for Gardening Ideas in a Childcare Setting  on Apr 11\, 2023 7:00 PM 
 CDT at:\n\nhttps://attendee.gotowebinar.com/register/2556086788048464222\n
 \nAfter registering\, you will receive a confirmation email containing inf
 ormation about joining the webinar.
DTSTART;TZID=America/Chicago:20230411T190000
DTEND;TZID=America/Chicago:20230411T200000
LOCATION:
SUMMARY:Gardening Ideas in a Childcare Setting | Webinar
END:VEVENT
END:VCALENDAR
