BEGIN:VCALENDAR
VERSION:2.0
PRODID:-//midwestchildcare.org//NONSGML kigkonsult.se iCalcreator 2.30.10//
CALSCALE:GREGORIAN
METHOD:PUBLISH
UID:579fd8c3-c954-45f7-b1cd-c4d24fe91dfa
X-WR-CALDESC:Noisy Nights: An Interactive Preschool Class\n\nYou are invite
 d to a Zoom meeting.\nWhen: Apr 6\, 2023 10:00 AM Central Time (US and Can
 ada)\n\nRegister in advance for this meeting:\nhttps://us02web.zoom.us/mee
 ting/register/tZcuc--hqj4vHdVbPuVdXm-krz7YKrC6n9GR\n\nAfter registering\, 
 you will receive a confirmation email containing information about joining
  the meeting.
X-WR-RELCALID:9f4d9f0c9dbb876c61d58add70638c17
X-WR-TIMEZONE:America/Chicago
BEGIN:VTIMEZONE
TZID:America/Chicago
BEGIN:STANDARD
TZNAME:CST
DTSTART:20221106T020000
TZOFFSETFROM:-0500
TZOFFSETTO:-0600
RDATE:20231105T020000
END:STANDARD
BEGIN:DAYLIGHT
TZNAME:CDT
DTSTART:20230312T020000
TZOFFSETFROM:-0600
TZOFFSETTO:-0500
RDATE:20240310T020000
END:DAYLIGHT
END:VTIMEZONE
BEGIN:VEVENT
UID:ad044bd6-4447-4dd6-9444-7930c062a1be
DTSTAMP:20260424T114653Z
DESCRIPTION:Noisy Nights: An Interactive Preschool Class\n\nYou are invited
  to a Zoom meeting.\nWhen: Apr 6\, 2023 10:00 AM Central Time (US and Cana
 da)\n\nRegister in advance for this meeting:\nhttps://us02web.zoom.us/meet
 ing/register/tZcuc--hqj4vHdVbPuVdXm-krz7YKrC6n9GR\n\nAfter registering\, y
 ou will receive a confirmation email containing information about joining 
 the meeting.
DTSTART;TZID=America/Chicago:20230406T100000
DTEND;TZID=America/Chicago:20230406T103000
LOCATION:
SUMMARY:Noisy Nights: An Interactive Preschool Class
END:VEVENT
END:VCALENDAR
