BEGIN:VCALENDAR
VERSION:2.0
PRODID:-//midwestchildcare.org//NONSGML kigkonsult.se iCalcreator 2.30.10//
CALSCALE:GREGORIAN
METHOD:PUBLISH
UID:9962a506-7717-4a29-9184-de023f1bfedc
X-WR-CALDESC:Noisy Nights: An Interactive Preschool Class\n\nYou are invite
 d to a Zoom meeting.\nWhen: Apr 6\, 2023 09:30 AM Central Time (US and Can
 ada)\n\nRegister in advance for this meeting:\nhttps://us02web.zoom.us/mee
 ting/register/tZwsfu6rpj4rE9T-LoJ_mlKgZT4dtOCl0y8X\n\nAfter registering\, 
 you will receive a confirmation email containing information about joining
  the meeting.
X-WR-RELCALID:a63db413a27c0dd6ba0a7d67c189d379
X-WR-TIMEZONE:America/Chicago
BEGIN:VTIMEZONE
TZID:America/Chicago
BEGIN:STANDARD
TZNAME:CST
DTSTART:20221106T020000
TZOFFSETFROM:-0500
TZOFFSETTO:-0600
RDATE:20231105T020000
END:STANDARD
BEGIN:DAYLIGHT
TZNAME:CDT
DTSTART:20230312T020000
TZOFFSETFROM:-0600
TZOFFSETTO:-0500
RDATE:20240310T020000
END:DAYLIGHT
END:VTIMEZONE
BEGIN:VEVENT
UID:d281f831-3035-4fdd-af31-1ee978bfed0f
DTSTAMP:20260424T114636Z
DESCRIPTION:Noisy Nights: An Interactive Preschool Class\n\nYou are invited
  to a Zoom meeting.\nWhen: Apr 6\, 2023 09:30 AM Central Time (US and Cana
 da)\n\nRegister in advance for this meeting:\nhttps://us02web.zoom.us/meet
 ing/register/tZwsfu6rpj4rE9T-LoJ_mlKgZT4dtOCl0y8X\n\nAfter registering\, y
 ou will receive a confirmation email containing information about joining 
 the meeting.
DTSTART;TZID=America/Chicago:20230406T093000
DTEND;TZID=America/Chicago:20230406T100000
LOCATION:
SUMMARY:Noisy Nights: An Interactive Preschool Class
END:VEVENT
END:VCALENDAR
