BEGIN:VCALENDAR
VERSION:2.0
PRODID:-//midwestchildcare.org//NONSGML kigkonsult.se iCalcreator 2.30.10//
CALSCALE:GREGORIAN
METHOD:PUBLISH
UID:38cf8d42-fd67-4f4b-9f63-f42ed1bb1dc3
X-WR-CALDESC:Noisy Nights: An Interactive Preschool Class\n\nYou are invite
 d to a Zoom meeting.\nWhen: Apr 6\, 2023 09:00 AM Central Time (US and Can
 ada)\n\nRegister in advance for this meeting:\nhttps://us02web.zoom.us/mee
 ting/register/tZUscOGupzoiH9ZA_W4b8OEsktOhmTIFOLEh\n\nAfter registering\, 
 you will receive a confirmation email containing information about joining
  the meeting\n
X-WR-RELCALID:a471cf5891a55c209fb2bc041524b334
X-WR-TIMEZONE:America/Chicago
BEGIN:VTIMEZONE
TZID:America/Chicago
BEGIN:STANDARD
TZNAME:CST
DTSTART:20221106T020000
TZOFFSETFROM:-0500
TZOFFSETTO:-0600
RDATE:20231105T020000
END:STANDARD
BEGIN:DAYLIGHT
TZNAME:CDT
DTSTART:20230312T020000
TZOFFSETFROM:-0600
TZOFFSETTO:-0500
RDATE:20240310T020000
END:DAYLIGHT
END:VTIMEZONE
BEGIN:VEVENT
UID:2b26f4b2-f816-41cd-81f3-144679b91c4b
DTSTAMP:20260424T114539Z
DESCRIPTION:Noisy Nights: An Interactive Preschool Class\n\nYou are invited
  to a Zoom meeting.\nWhen: Apr 6\, 2023 09:00 AM Central Time (US and Cana
 da)\n\nRegister in advance for this meeting:\nhttps://us02web.zoom.us/meet
 ing/register/tZUscOGupzoiH9ZA_W4b8OEsktOhmTIFOLEh\n\nAfter registering\, y
 ou will receive a confirmation email containing information about joining 
 the meeting\n
DTSTART;TZID=America/Chicago:20230406T090000
DTEND;TZID=America/Chicago:20230406T093000
LOCATION:
SUMMARY:Noisy Nights: An Interactive Preschool Class
END:VEVENT
END:VCALENDAR
