BEGIN:VCALENDAR
VERSION:2.0
PRODID:-//midwestchildcare.org//NONSGML kigkonsult.se iCalcreator 2.30.10//
CALSCALE:GREGORIAN
METHOD:PUBLISH
UID:21fbce6c-27b3-4f5d-95b1-33e1772a83b7
X-WR-CALDESC:Ten Lucky Leprechauns:An Interactive preschool Class\n\nYou ar
 e invited to a Zoom meeting.\nWhen: Mar 16\, 2023 09:00 AM Central Time (U
 S and Canada) \n\nRegister in advance for this meeting:\nhttps://us02web.z
 oom.us/meeting/register/tZYlfumurzgtG921KniAnyJnF2wytbhSuS3C \n\nAfter reg
 istering\, you will receive a confirmation email containing information ab
 out joining the meeting.
X-WR-RELCALID:5ea62824d942233de98d0134fdede311
X-WR-TIMEZONE:America/Chicago
BEGIN:VTIMEZONE
TZID:America/Chicago
BEGIN:STANDARD
TZNAME:CST
DTSTART:20221106T020000
TZOFFSETFROM:-0500
TZOFFSETTO:-0600
RDATE:20231105T020000
END:STANDARD
BEGIN:DAYLIGHT
TZNAME:CDT
DTSTART:20230312T020000
TZOFFSETFROM:-0600
TZOFFSETTO:-0500
RDATE:20240310T020000
END:DAYLIGHT
END:VTIMEZONE
BEGIN:VEVENT
UID:0281788c-0a4a-49ed-bb29-48e15198781f
DTSTAMP:20260424T133823Z
DESCRIPTION:Ten Lucky Leprechauns:An Interactive preschool Class\n\nYou are
  invited to a Zoom meeting.\nWhen: Mar 16\, 2023 09:00 AM Central Time (US
  and Canada) \n\nRegister in advance for this meeting:\nhttps://us02web.zo
 om.us/meeting/register/tZYlfumurzgtG921KniAnyJnF2wytbhSuS3C \n\nAfter regi
 stering\, you will receive a confirmation email containing information abo
 ut joining the meeting.
DTSTART;TZID=America/Chicago:20230316T090000
DTEND;TZID=America/Chicago:20230316T093000
LOCATION:
SUMMARY:Ten Lucky Leprechauns:An Interactive preschool Class
END:VEVENT
END:VCALENDAR
