BEGIN:VCALENDAR
VERSION:2.0
PRODID:-//midwestchildcare.org//NONSGML kigkonsult.se iCalcreator 2.30.10//
CALSCALE:GREGORIAN
METHOD:PUBLISH
UID:ecbf5d57-4a33-4297-b663-d2c42d064ab7
X-WR-CALDESC:Ten Lucky Leprechauns:An Interactive preschool Class\n\nYou ar
 e invited to a Zoom meeting.\nWhen: Mar 16\, 2023 10:00 AM Central Time (U
 S and Canada) \n\nRegister in advance for this meeting:\nhttps://us02web.z
 oom.us/meeting/register/tZcld-mhqz4sGN0960C3qRvBVuP54kZTpGRm \n\nAfter reg
 istering\, you will receive a confirmation email containing information ab
 out joining the meeting.
X-WR-RELCALID:76ac3b43080fa83e68dd9ac825e1f32b
X-WR-TIMEZONE:America/Chicago
BEGIN:VTIMEZONE
TZID:America/Chicago
BEGIN:STANDARD
TZNAME:CST
DTSTART:20221106T020000
TZOFFSETFROM:-0500
TZOFFSETTO:-0600
RDATE:20231105T020000
END:STANDARD
BEGIN:DAYLIGHT
TZNAME:CDT
DTSTART:20230312T020000
TZOFFSETFROM:-0600
TZOFFSETTO:-0500
RDATE:20240310T020000
END:DAYLIGHT
END:VTIMEZONE
BEGIN:VEVENT
UID:1d179dfc-fe55-461a-b33b-0424387f8dd7
DTSTAMP:20260424T134738Z
DESCRIPTION:Ten Lucky Leprechauns:An Interactive preschool Class\n\nYou are
  invited to a Zoom meeting.\nWhen: Mar 16\, 2023 10:00 AM Central Time (US
  and Canada) \n\nRegister in advance for this meeting:\nhttps://us02web.zo
 om.us/meeting/register/tZcld-mhqz4sGN0960C3qRvBVuP54kZTpGRm \n\nAfter regi
 stering\, you will receive a confirmation email containing information abo
 ut joining the meeting.
DTSTART;TZID=America/Chicago:20230316T100000
DTEND;TZID=America/Chicago:20230316T103000
LOCATION:
SUMMARY:Ten Lucky Leprechauns:An Interactive preschool Class
END:VEVENT
END:VCALENDAR
