BEGIN:VCALENDAR
VERSION:2.0
PRODID:-//midwestchildcare.org//NONSGML kigkonsult.se iCalcreator 2.30.10//
CALSCALE:GREGORIAN
METHOD:PUBLISH
UID:9686dcbc-c886-4229-a75d-4d56879c1712
X-WR-CALDESC:Ten Lucky Leprechauns:An Interactive preschool Class\n\nYou ar
 e invited to a Zoom meeting.\nWhen: Mar 16\, 2023 09:30 AM Central Time (U
 S and Canada) \n\nRegister in advance for this meeting:\nhttps://us02web.z
 oom.us/meeting/register/tZAvceCvrzsvE9OsQwGwfqR8KfGnxkOploog \n\nAfter reg
 istering\, you will receive a confirmation email containing information ab
 out joining the meeting.
X-WR-RELCALID:00334e3a8ad1a9339b35d6c6202ae1fa
X-WR-TIMEZONE:America/Chicago
BEGIN:VTIMEZONE
TZID:America/Chicago
BEGIN:STANDARD
TZNAME:CST
DTSTART:20221106T020000
TZOFFSETFROM:-0500
TZOFFSETTO:-0600
RDATE:20231105T020000
END:STANDARD
BEGIN:DAYLIGHT
TZNAME:CDT
DTSTART:20230312T020000
TZOFFSETFROM:-0600
TZOFFSETTO:-0500
RDATE:20240310T020000
END:DAYLIGHT
END:VTIMEZONE
BEGIN:VEVENT
UID:41d013fe-253a-4877-837d-a8753ad599ea
DTSTAMP:20260424T133733Z
DESCRIPTION:Ten Lucky Leprechauns:An Interactive preschool Class\n\nYou are
  invited to a Zoom meeting.\nWhen: Mar 16\, 2023 09:30 AM Central Time (US
  and Canada) \n\nRegister in advance for this meeting:\nhttps://us02web.zo
 om.us/meeting/register/tZAvceCvrzsvE9OsQwGwfqR8KfGnxkOploog \n\nAfter regi
 stering\, you will receive a confirmation email containing information abo
 ut joining the meeting.
DTSTART;TZID=America/Chicago:20230316T093000
DTEND;TZID=America/Chicago:20230316T100000
LOCATION:
SUMMARY:Ten Lucky Leprechauns:An Interactive preschool Class
END:VEVENT
END:VCALENDAR
