BEGIN:VCALENDAR
VERSION:2.0
PRODID:-//midwestchildcare.org//NONSGML kigkonsult.se iCalcreator 2.30.10//
CALSCALE:GREGORIAN
METHOD:PUBLISH
UID:a51f1d7d-602f-4a42-930f-01033d36e846
X-WR-CALDESC:HSI Pediatric First Aid | CPR AED Child/Infant/Adult (2020) \n
 \nMidwest Childcare Association - Mar\n\nClass Number: 30729713\nClass Sta
 rt Date:03/16/2023 \nClass Time: 6:00 PM - 10:00 PM\nLocation:	7701 Pacific
  St \nOmaha\, NE\n68114\n\nTo Register\nhttps://otis.osmanager4.com/#/open
 Enrollment?co=1&cid=3673040
X-WR-RELCALID:a52b57332d6fb3a871c16843b063fb00
X-WR-TIMEZONE:America/Chicago
BEGIN:VTIMEZONE
TZID:America/Chicago
BEGIN:STANDARD
TZNAME:CST
DTSTART:20221106T020000
TZOFFSETFROM:-0500
TZOFFSETTO:-0600
RDATE:20231105T020000
END:STANDARD
BEGIN:DAYLIGHT
TZNAME:CDT
DTSTART:20230312T020000
TZOFFSETFROM:-0600
TZOFFSETTO:-0500
RDATE:20240310T020000
END:DAYLIGHT
END:VTIMEZONE
BEGIN:VEVENT
UID:146584d5-696b-4133-9ab8-14bdbb256659
DTSTAMP:20260424T134723Z
DESCRIPTION:HSI Pediatric First Aid | CPR AED Child/Infant/Adult (2020) \n
 \nMidwest Childcare Association - Mar\n\nClass Number: 30729713\nClass Sta
 rt Date:03/16/2023 \nClass Time: 6:00 PM - 10:00 PM\nLocation:	7701 Pacific
  St \nOmaha\, NE\n68114\n\nTo Register\nhttps://otis.osmanager4.com/#/open
 Enrollment?co=1&cid=3673040
DTSTART;TZID=America/Chicago:20230316T180000
DTEND;TZID=America/Chicago:20230316T220000
LOCATION:
SUMMARY:HSI Pediatric First Aid | CPR AED Child/Infant/Adult (2020)
END:VEVENT
END:VCALENDAR
