BEGIN:VCALENDAR
VERSION:2.0
PRODID:-//midwestchildcare.org//NONSGML kigkonsult.se iCalcreator 2.30.10//
CALSCALE:GREGORIAN
METHOD:PUBLISH
UID:8e96f331-4453-4087-acf2-4c10f5e804ab
X-WR-CALDESC:The Book of Rules: An interactive Preschool Class\n\nYou are i
 nvited to a Zoom meeting.\nWhen: Mar 9\, 2023 10:00 AM Central Time (US an
 d Canada) \n\nRegister in advance for this meeting:\nhttps://us02web.zoom.
 us/meeting/register/tZctfuuoqzgiEtKUIJPOYAfkHy5TpMGATK4M \n\nAfter registe
 ring\, you will receive a confirmation email containing information about 
 joining the meeting.
X-WR-RELCALID:903bd30bfb5a6c62b5d29b3f8cad3e45
X-WR-TIMEZONE:America/Chicago
BEGIN:VTIMEZONE
TZID:America/Chicago
BEGIN:STANDARD
TZNAME:CST
DTSTART:20221106T020000
TZOFFSETFROM:-0500
TZOFFSETTO:-0600
RDATE:20231105T020000
END:STANDARD
BEGIN:DAYLIGHT
TZNAME:CDT
DTSTART:20220313T020000
TZOFFSETFROM:-0600
TZOFFSETTO:-0500
RDATE:20230312T020000
RDATE:20240310T020000
END:DAYLIGHT
END:VTIMEZONE
BEGIN:VEVENT
UID:378e4c9a-1125-4eec-9f41-49d6dc56e245
DTSTAMP:20260424T134500Z
DESCRIPTION:The Book of Rules: An interactive Preschool Class\n\nYou are in
 vited to a Zoom meeting.\nWhen: Mar 9\, 2023 10:00 AM Central Time (US and
  Canada) \n\nRegister in advance for this meeting:\nhttps://us02web.zoom.u
 s/meeting/register/tZctfuuoqzgiEtKUIJPOYAfkHy5TpMGATK4M \n\nAfter register
 ing\, you will receive a confirmation email containing information about j
 oining the meeting.
DTSTART;TZID=America/Chicago:20230309T100000
DTEND;TZID=America/Chicago:20230309T103000
LOCATION:
SUMMARY:The Book of Rules: An interactive Preschool Class
END:VEVENT
END:VCALENDAR
