BEGIN:VCALENDAR
VERSION:2.0
PRODID:-//midwestchildcare.org//NONSGML kigkonsult.se iCalcreator 2.30.10//
CALSCALE:GREGORIAN
METHOD:PUBLISH
UID:8f56dcfd-9d38-4252-b797-0f977114ed8e
X-WR-CALDESC:The Book of Rules: An interactive Preschool Class\n\nYou are i
 nvited to a Zoom meeting.\nWhen: Mar 9\, 2023 09:30 AM Central Time (US an
 d Canada) \n\nRegister in advance for this meeting:\nhttps://us02web.zoom.
 us/meeting/register/tZMtcOqprz4vGtKAyV5iPaBJpx5Itxgus-XK \n\nAfter registe
 ring\, you will receive a confirmation email containing information about 
 joining the meeting.
X-WR-RELCALID:0029993b41992651f38759f8511c899d
X-WR-TIMEZONE:America/Chicago
BEGIN:VTIMEZONE
TZID:America/Chicago
BEGIN:STANDARD
TZNAME:CST
DTSTART:20221106T020000
TZOFFSETFROM:-0500
TZOFFSETTO:-0600
RDATE:20231105T020000
END:STANDARD
BEGIN:DAYLIGHT
TZNAME:CDT
DTSTART:20220313T020000
TZOFFSETFROM:-0600
TZOFFSETTO:-0500
RDATE:20230312T020000
RDATE:20240310T020000
END:DAYLIGHT
END:VTIMEZONE
BEGIN:VEVENT
UID:39a39f94-1052-4a82-b567-fb2fedc1de59
DTSTAMP:20260424T134331Z
DESCRIPTION:The Book of Rules: An interactive Preschool Class\n\nYou are in
 vited to a Zoom meeting.\nWhen: Mar 9\, 2023 09:30 AM Central Time (US and
  Canada) \n\nRegister in advance for this meeting:\nhttps://us02web.zoom.u
 s/meeting/register/tZMtcOqprz4vGtKAyV5iPaBJpx5Itxgus-XK \n\nAfter register
 ing\, you will receive a confirmation email containing information about j
 oining the meeting.
DTSTART;TZID=America/Chicago:20230309T093000
DTEND;TZID=America/Chicago:20230309T100000
LOCATION:
SUMMARY:The Book of Rules: An interactive Preschool Class
END:VEVENT
END:VCALENDAR
