BEGIN:VCALENDAR
VERSION:2.0
PRODID:-//midwestchildcare.org//NONSGML kigkonsult.se iCalcreator 2.30.10//
CALSCALE:GREGORIAN
METHOD:PUBLISH
UID:55e0d0aa-fd6c-4d3d-be97-890b6847dc47
X-WR-CALDESC:THE GRUMPY FAIRIES: An interactive preschool Class\n\nYou are 
 invited to a Zoom meeting. \nWhen: Mar 2\, 2023 10:00 AM Central Time (US 
 and Canada) \n\nRegister in advance for this meeting:\nhttps://us02web.zoo
 m.us/meeting/register/tZYrdOysrjsiG9b5l42shfnp4u_ZawPeuP5-\n\nAfter regist
 ering\, you will receive a confirmation email containing information about
  joining the meeting.
X-WR-RELCALID:2286b485195bb84b5fa4a221f8436edb
X-WR-TIMEZONE:America/Chicago
BEGIN:VTIMEZONE
TZID:America/Chicago
BEGIN:STANDARD
TZNAME:CST
DTSTART:20221106T020000
TZOFFSETFROM:-0500
TZOFFSETTO:-0600
RDATE:20231105T020000
END:STANDARD
BEGIN:DAYLIGHT
TZNAME:CDT
DTSTART:20220313T020000
TZOFFSETFROM:-0600
TZOFFSETTO:-0500
RDATE:20230312T020000
RDATE:20240310T020000
END:DAYLIGHT
END:VTIMEZONE
BEGIN:VEVENT
UID:2b9df5c6-e599-471d-997b-b5bd1d4cd2fc
DTSTAMP:20260424T133207Z
DESCRIPTION:THE GRUMPY FAIRIES: An interactive preschool Class\n\nYou are i
 nvited to a Zoom meeting. \nWhen: Mar 2\, 2023 10:00 AM Central Time (US a
 nd Canada) \n\nRegister in advance for this meeting:\nhttps://us02web.zoom
 .us/meeting/register/tZYrdOysrjsiG9b5l42shfnp4u_ZawPeuP5-\n\nAfter registe
 ring\, you will receive a confirmation email containing information about 
 joining the meeting.
DTSTART;TZID=America/Chicago:20230302T100000
DTEND;TZID=America/Chicago:20230302T103000
LOCATION:
SUMMARY:THE GRUMPY FAIRIES: An interactive preschool Class
END:VEVENT
END:VCALENDAR
