BEGIN:VCALENDAR
VERSION:2.0
PRODID:-//midwestchildcare.org//NONSGML kigkonsult.se iCalcreator 2.30.10//
CALSCALE:GREGORIAN
METHOD:PUBLISH
UID:7179b4ba-def7-46a3-bbd0-53a9c6459642
X-WR-CALDESC:THE GRUMPY FAIRIES: An interactive preschool Class\n\nYou are 
 invited to a Zoom meeting. \nWhen: Mar 2\, 2023 09:30 AM Central Time (US 
 and Canada) \n\nRegister in advance for this meeting:\nhttps://us02web.zoo
 m.us/meeting/register/tZMkcOGqrDssGd1DgeFLraOsynIU4SO_S-vG \n\nAfter regis
 tering\, you will receive a confirmation email containing information abou
 t joining the meeting.
X-WR-RELCALID:c8fff44bf6a7e0b2c8a979c8358537ea
X-WR-TIMEZONE:America/Chicago
BEGIN:VTIMEZONE
TZID:America/Chicago
BEGIN:STANDARD
TZNAME:CST
DTSTART:20221106T020000
TZOFFSETFROM:-0500
TZOFFSETTO:-0600
RDATE:20231105T020000
END:STANDARD
BEGIN:DAYLIGHT
TZNAME:CDT
DTSTART:20220313T020000
TZOFFSETFROM:-0600
TZOFFSETTO:-0500
RDATE:20230312T020000
RDATE:20240310T020000
END:DAYLIGHT
END:VTIMEZONE
BEGIN:VEVENT
UID:8033d756-384e-49db-a469-a06aabce8db0
DTSTAMP:20260424T134459Z
DESCRIPTION:THE GRUMPY FAIRIES: An interactive preschool Class\n\nYou are i
 nvited to a Zoom meeting. \nWhen: Mar 2\, 2023 09:30 AM Central Time (US a
 nd Canada) \n\nRegister in advance for this meeting:\nhttps://us02web.zoom
 .us/meeting/register/tZMkcOGqrDssGd1DgeFLraOsynIU4SO_S-vG \n\nAfter regist
 ering\, you will receive a confirmation email containing information about
  joining the meeting.
DTSTART;TZID=America/Chicago:20230302T093000
DTEND;TZID=America/Chicago:20230302T100000
LOCATION:
SUMMARY:THE GRUMPY FAIRIES: An interactive preschool Class
END:VEVENT
END:VCALENDAR
