BEGIN:VCALENDAR
VERSION:2.0
PRODID:-//midwestchildcare.org//NONSGML kigkonsult.se iCalcreator 2.30.10//
CALSCALE:GREGORIAN
METHOD:PUBLISH
UID:0c4f0d4f-37a1-434f-867b-a6f908860d23
X-WR-CALDESC:HSI Pediatric First Aid | CPR AED Child/Infant/Adult (2020) \n
 \nMidwest Childcare Association - Mar - Renewal\n\nClass Number: 30729722
 \nClass Start Date:03/02/2023 \nClass Time: 6:00 PM - 8:30 PM\nLocation:	77
 01 Pacific St Ste 200 \nOmaha\, NE\n68114\n\nTo Register\nhttps://otis.osm
 anager4.com/#/openEnrollment?co=1&cid=5108436
X-WR-RELCALID:05bc73957d6acf8b2ba8042784e1f066
X-WR-TIMEZONE:America/Chicago
BEGIN:VTIMEZONE
TZID:America/Chicago
BEGIN:STANDARD
TZNAME:CST
DTSTART:20221106T020000
TZOFFSETFROM:-0500
TZOFFSETTO:-0600
RDATE:20231105T020000
END:STANDARD
BEGIN:DAYLIGHT
TZNAME:CDT
DTSTART:20220313T020000
TZOFFSETFROM:-0600
TZOFFSETTO:-0500
RDATE:20230312T020000
RDATE:20240310T020000
END:DAYLIGHT
END:VTIMEZONE
BEGIN:VEVENT
UID:6a30737f-4c1c-44bf-8982-990dceb2a683
DTSTAMP:20260424T135115Z
DESCRIPTION:HSI Pediatric First Aid | CPR AED Child/Infant/Adult (2020) \n
 \nMidwest Childcare Association - Mar - Renewal\n\nClass Number: 30729722
 \nClass Start Date:03/02/2023 \nClass Time: 6:00 PM - 8:30 PM\nLocation:	77
 01 Pacific St Ste 200 \nOmaha\, NE\n68114\n\nTo Register\nhttps://otis.osm
 anager4.com/#/openEnrollment?co=1&cid=5108436
DTSTART;TZID=America/Chicago:20230302T180000
DTEND;TZID=America/Chicago:20230302T203000
LOCATION:
SUMMARY:HSI Pediatric First Aid | CPR AED Child/Infant/Adult (2020)
END:VEVENT
END:VCALENDAR
