BEGIN:VCALENDAR
VERSION:2.0
PRODID:-//midwestchildcare.org//NONSGML kigkonsult.se iCalcreator 2.30.10//
CALSCALE:GREGORIAN
METHOD:PUBLISH
UID:15bb176a-4ef2-4bda-a951-ff1b8068699b
X-WR-CALDESC:\nSleep's Impact on Health and Weigh\n\nPlease register for Sl
 eep's Impact on Health and Weigh on Feb 27\, 2023 7:00 PM CST at:\nhttps:/
 /attendee.gotowebinar.com/register/7386823009442969952\n\nAfter registerin
 g\, you will receive a confirmation email containing information about joi
 ning the webinar.
X-WR-RELCALID:e6a5ca6fef8f176c378161b1b3a21a28
X-WR-TIMEZONE:America/Chicago
BEGIN:VTIMEZONE
TZID:America/Chicago
BEGIN:STANDARD
TZNAME:CST
DTSTART:20221106T020000
TZOFFSETFROM:-0500
TZOFFSETTO:-0600
RDATE:20231105T020000
END:STANDARD
BEGIN:DAYLIGHT
TZNAME:CDT
DTSTART:20220313T020000
TZOFFSETFROM:-0600
TZOFFSETTO:-0500
RDATE:20230312T020000
RDATE:20240310T020000
END:DAYLIGHT
END:VTIMEZONE
BEGIN:VEVENT
UID:39d1ae7b-974a-403f-bb56-74e7c3f7f358
DTSTAMP:20260424T153857Z
DESCRIPTION:\nSleep's Impact on Health and Weigh\n\nPlease register for Sle
 ep's Impact on Health and Weigh on Feb 27\, 2023 7:00 PM CST at:\nhttps://
 attendee.gotowebinar.com/register/7386823009442969952\n\nAfter registering
 \, you will receive a confirmation email containing information about join
 ing the webinar.
DTSTART;TZID=America/Chicago:20230227T190000
DTEND;TZID=America/Chicago:20230227T200000
LOCATION:
SUMMARY:Sleep's Impact on Health and Weigh
END:VEVENT
END:VCALENDAR
