BEGIN:VCALENDAR
VERSION:2.0
PRODID:-//midwestchildcare.org//NONSGML kigkonsult.se iCalcreator 2.30.10//
CALSCALE:GREGORIAN
METHOD:PUBLISH
UID:f9835b90-9011-4480-93a9-28b943e859a0
X-WR-CALDESC:Noisy Night: An Interactive Preschool Class\n\nYou are invited
  to a Zoom meeting.\nWhen: Feb 23\, 2023 10:00 AM Central Time (US and Can
 ada) \n\nRegister in advance for this meeting:\nhttps://us02web.zoom.us/me
 eting/register/tZwrduqgrDstHNPfVGm75V_pkZ0Sbk0kFVq3\n\nAfter registering\,
  you will receive a confirmation email containing information about joinin
 g the meeting.
X-WR-RELCALID:0dba3b212c15709ccceaab9ae2020e18
X-WR-TIMEZONE:America/Chicago
BEGIN:VTIMEZONE
TZID:America/Chicago
BEGIN:STANDARD
TZNAME:CST
DTSTART:20221106T020000
TZOFFSETFROM:-0500
TZOFFSETTO:-0600
RDATE:20231105T020000
END:STANDARD
BEGIN:DAYLIGHT
TZNAME:CDT
DTSTART:20220313T020000
TZOFFSETFROM:-0600
TZOFFSETTO:-0500
RDATE:20230312T020000
RDATE:20240310T020000
END:DAYLIGHT
END:VTIMEZONE
BEGIN:VEVENT
UID:0862c2a8-d0a1-4cbe-97f5-e01bd88f48db
DTSTAMP:20260424T153308Z
DESCRIPTION:Noisy Night: An Interactive Preschool Class\n\nYou are invited 
 to a Zoom meeting.\nWhen: Feb 23\, 2023 10:00 AM Central Time (US and Cana
 da) \n\nRegister in advance for this meeting:\nhttps://us02web.zoom.us/mee
 ting/register/tZwrduqgrDstHNPfVGm75V_pkZ0Sbk0kFVq3\n\nAfter registering\, 
 you will receive a confirmation email containing information about joining
  the meeting.
DTSTART;TZID=America/Chicago:20230223T100000
DTEND;TZID=America/Chicago:20230223T103000
LOCATION:
SUMMARY:Noisy Night: An Interactive Preschool Class
END:VEVENT
END:VCALENDAR
